BEGIN:VCALENDAR
VERSION:2.0
PRODID:-//KRTN Enchanted Air Radio - ECPv5.16.4.1//NONSGML v1.0//EN
CALSCALE:GREGORIAN
METHOD:PUBLISH
X-WR-CALNAME:KRTN Enchanted Air Radio
X-ORIGINAL-URL:https://krtnradio.com/wp
X-WR-CALDESC:Events for KRTN Enchanted Air Radio
BEGIN:VTIMEZONE
TZID:America/Denver
BEGIN:DAYLIGHT
TZOFFSETFROM:-0700
TZOFFSETTO:-0600
TZNAME:MDT
DTSTART:20200308T090000
END:DAYLIGHT
BEGIN:STANDARD
TZOFFSETFROM:-0600
TZOFFSETTO:-0700
TZNAME:MST
DTSTART:20201101T080000
END:STANDARD
END:VTIMEZONE
BEGIN:VEVENT
DTSTART;TZID=America/Denver:20200704T080000
DTEND;TZID=America/Denver:20200704T100000
DTSTAMP:20260425T094208
CREATED:20200612T154637Z
LAST-MODIFIED:20200612T154814Z
UID:63677-1593849600-1593856800@krtnradio.com
SUMMARY:Raton Elks Drive-Up Pancake Breakfast
DESCRIPTION:Pancakes on the 4th of July are a tradition in Raton. \nSpecial pancake toppings will be included!!! \nThe Raton Elks Lodge will help our community stay with tradition this year. \nPlease join us for a drive up pancake breakfast on the 4th of July!
URL:https://krtnradio.com/wp/event/raton-elks-drive-up-pancake-breakfast/
LOCATION:Elk’s Lodge\, 300 S 2nd\, Raton\, 87740
CATEGORIES:Area Events
ATTACH;FMTTYPE=image/jpeg:https://krtnradio.com/wp/wp-content/uploads/2020/06/103419490_2801804316614389_23798995285649440_o.jpg
END:VEVENT
END:VCALENDAR