BEGIN:VCALENDAR
VERSION:2.0
PRODID:-//KRTN Enchanted Air Radio - ECPv5.16.4.1//NONSGML v1.0//EN
CALSCALE:GREGORIAN
METHOD:PUBLISH
X-WR-CALNAME:KRTN Enchanted Air Radio
X-ORIGINAL-URL:https://krtnradio.com/wp
X-WR-CALDESC:Events for KRTN Enchanted Air Radio
BEGIN:VTIMEZONE
TZID:America/Denver
BEGIN:DAYLIGHT
TZOFFSETFROM:-0700
TZOFFSETTO:-0600
TZNAME:MDT
DTSTART:20200308T090000
END:DAYLIGHT
BEGIN:STANDARD
TZOFFSETFROM:-0600
TZOFFSETTO:-0700
TZNAME:MST
DTSTART:20201101T080000
END:STANDARD
END:VTIMEZONE
BEGIN:VEVENT
DTSTART;TZID=America/Denver:20200709T173000
DTEND;TZID=America/Denver:20200709T173000
DTSTAMP:20260425T094234
CREATED:20200709T153057Z
LAST-MODIFIED:20200709T153057Z
UID:64422-1594315800-1594315800@krtnradio.com
SUMMARY:Raton Colfax Relay for Life Luminaria Display
DESCRIPTION:On Historic 1st Street by Old Pass Gallery
URL:https://krtnradio.com/wp/event/raton-colfax-relay-for-life-luminaria-display/
LOCATION:Historic First Street\, Raton\, NM\, 87740\, United States
CATEGORIES:Area Events
ATTACH;FMTTYPE=image/jpeg:https://krtnradio.com/wp/wp-content/uploads/2015/06/Relay-for-Life-2015_3584.jpg
END:VEVENT
END:VCALENDAR