BEGIN:VCALENDAR
VERSION:2.0
PRODID:-//KRTN Enchanted Air Radio - ECPv5.16.4.1//NONSGML v1.0//EN
CALSCALE:GREGORIAN
METHOD:PUBLISH
X-WR-CALNAME:KRTN Enchanted Air Radio
X-ORIGINAL-URL:https://krtnradio.com/wp
X-WR-CALDESC:Events for KRTN Enchanted Air Radio
BEGIN:VTIMEZONE
TZID:America/Denver
BEGIN:DAYLIGHT
TZOFFSETFROM:-0700
TZOFFSETTO:-0600
TZNAME:MDT
DTSTART:20200308T090000
END:DAYLIGHT
BEGIN:STANDARD
TZOFFSETFROM:-0600
TZOFFSETTO:-0700
TZNAME:MST
DTSTART:20201101T080000
END:STANDARD
END:VTIMEZONE
BEGIN:VEVENT
DTSTART;TZID=America/Denver:20200709T170000
DTEND;TZID=America/Denver:20200709T170000
DTSTAMP:20260425T094308
CREATED:20200708T164359Z
LAST-MODIFIED:20200709T152950Z
UID:64394-1594314000-1594314000@krtnradio.com
SUMMARY:Raton Colfax Relay for Life Cancer Survivor Dinner
DESCRIPTION:Friday at 5 PM \nThere are a couple of events within this event. The first is a Cancer Survivor Dinner to be held on July 9. We have arranged to serve 100 people so please reserve a place if interested. We will be serving a turkey dinner with the trimmings to a Cancer Survivor and one guest. You may reserve a spot by Private Messaging me or by calling me at 505-288-2929. \n 
URL:https://krtnradio.com/wp/event/raton-colfax-relay-for-life-cancer-survivor-dinner/
LOCATION:Old Pass Gallery\, 145 S 1st St.\, Raton\, NM\, 87740\, United States
CATEGORIES:Area Events
ATTACH;FMTTYPE=image/jpeg:https://krtnradio.com/wp/wp-content/uploads/2017/07/Rlay-for-Life-7-15-2017-3702.jpg
END:VEVENT
END:VCALENDAR