BEGIN:VCALENDAR
VERSION:2.0
PRODID:-//KRTN Enchanted Air Radio - ECPv5.16.4.1//NONSGML v1.0//EN
CALSCALE:GREGORIAN
METHOD:PUBLISH
X-WR-CALNAME:KRTN Enchanted Air Radio
X-ORIGINAL-URL:https://krtnradio.com/wp
X-WR-CALDESC:Events for KRTN Enchanted Air Radio
BEGIN:VTIMEZONE
TZID:America/Denver
BEGIN:DAYLIGHT
TZOFFSETFROM:-0700
TZOFFSETTO:-0600
TZNAME:MDT
DTSTART:20240310T090000
END:DAYLIGHT
BEGIN:STANDARD
TZOFFSETFROM:-0600
TZOFFSETTO:-0700
TZNAME:MST
DTSTART:20241103T080000
END:STANDARD
END:VTIMEZONE
BEGIN:VEVENT
DTSTART;TZID=America/Denver:20240411T180000
DTEND;TZID=America/Denver:20240411T180000
DTSTAMP:20260423T201213
CREATED:20240402T183658Z
LAST-MODIFIED:20240402T183658Z
UID:89712-1712858400-1712858400@krtnradio.com
SUMMARY:Public Meeting To Discuss PLans For The El Portel Lot
DESCRIPTION:
URL:https://krtnradio.com/wp/event/public-meeting-to-discuss-plans-for-the-el-portel-lot/
CATEGORIES:Meetings
END:VEVENT
END:VCALENDAR