BEGIN:VCALENDAR
VERSION:2.0
PRODID:-//KRTN Enchanted Air Radio - ECPv5.16.4.1//NONSGML v1.0//EN
CALSCALE:GREGORIAN
METHOD:PUBLISH
X-WR-CALNAME:KRTN Enchanted Air Radio
X-ORIGINAL-URL:https://krtnradio.com/wp
X-WR-CALDESC:Events for KRTN Enchanted Air Radio
BEGIN:VTIMEZONE
TZID:America/Denver
BEGIN:DAYLIGHT
TZOFFSETFROM:-0700
TZOFFSETTO:-0600
TZNAME:MDT
DTSTART:20200308T090000
END:DAYLIGHT
BEGIN:STANDARD
TZOFFSETFROM:-0600
TZOFFSETTO:-0700
TZNAME:MST
DTSTART:20201101T080000
END:STANDARD
END:VTIMEZONE
BEGIN:VEVENT
DTSTART;TZID=America/Denver:20200226T100000
DTEND;TZID=America/Denver:20200226T100000
DTSTAMP:20260424T164319
CREATED:20200113T212501Z
LAST-MODIFIED:20200113T212501Z
UID:58356-1582711200-1582711200@krtnradio.com
SUMMARY:Preschool Story Hour ~ Arthur Johnson Memorial Library
DESCRIPTION:Preschool Story Hour is every Wednesday morning at 10:00 a.m.
URL:https://krtnradio.com/wp/event/preschool-story-hour-arthur-johnson-memorial-library-8/
LOCATION:Arthur Johnson Memorial Library\, 244 Park Ave\, Raton\, NM\, 87740\, United States
CATEGORIES:Meetings
ATTACH;FMTTYPE=image/jpeg:https://krtnradio.com/wp/wp-content/uploads/2019/06/Library-clip-art.jpg
END:VEVENT
END:VCALENDAR