BEGIN:VCALENDAR
VERSION:2.0
PRODID:-//KRTN Enchanted Air Radio - ECPv5.16.4.1//NONSGML v1.0//EN
CALSCALE:GREGORIAN
METHOD:PUBLISH
X-WR-CALNAME:KRTN Enchanted Air Radio
X-ORIGINAL-URL:https://krtnradio.com/wp
X-WR-CALDESC:Events for KRTN Enchanted Air Radio
BEGIN:VTIMEZONE
TZID:America/Denver
BEGIN:DAYLIGHT
TZOFFSETFROM:-0700
TZOFFSETTO:-0600
TZNAME:MDT
DTSTART:20200308T090000
END:DAYLIGHT
BEGIN:STANDARD
TZOFFSETFROM:-0600
TZOFFSETTO:-0700
TZNAME:MST
DTSTART:20201101T080000
END:STANDARD
END:VTIMEZONE
BEGIN:VEVENT
DTSTART;TZID=America/Denver:20200227T170000
DTEND;TZID=America/Denver:20200227T183000
DTSTAMP:20260423T201205
CREATED:20200131T205452Z
LAST-MODIFIED:20200227T170833Z
UID:59514-1582822800-1582828200@krtnradio.com
SUMMARY:PreK & Kinder Literacy Night ~ Longfellow School
DESCRIPTION:Join us for carnival style fun\, learning about home literacy\, and refreshments! \nLiteracy Basket Raffle will raise funds for our PreK and Kinder classrooms.
URL:https://krtnradio.com/wp/event/prek-kinder-literacy-night-longfellow-school/
LOCATION:Longfellow Elementary School\, Raton\, NM\, 87740\, United States
CATEGORIES:Meetings
ATTACH;FMTTYPE=image/jpeg:https://krtnradio.com/wp/wp-content/uploads/2016/08/festival-carnival-e1470158799239.jpg
END:VEVENT
END:VCALENDAR