BEGIN:VCALENDAR
VERSION:2.0
PRODID:-//KRTN Enchanted Air Radio - ECPv5.16.4.1//NONSGML v1.0//EN
CALSCALE:GREGORIAN
METHOD:PUBLISH
X-WR-CALNAME:KRTN Enchanted Air Radio
X-ORIGINAL-URL:https://krtnradio.com/wp
X-WR-CALDESC:Events for KRTN Enchanted Air Radio
BEGIN:VTIMEZONE
TZID:America/Denver
BEGIN:DAYLIGHT
TZOFFSETFROM:-0700
TZOFFSETTO:-0600
TZNAME:MDT
DTSTART:20200308T090000
END:DAYLIGHT
BEGIN:STANDARD
TZOFFSETFROM:-0600
TZOFFSETTO:-0700
TZNAME:MST
DTSTART:20201101T080000
END:STANDARD
END:VTIMEZONE
BEGIN:VEVENT
DTSTART;TZID=America/Denver:20200813T180000
DTEND;TZID=America/Denver:20200813T190000
DTSTAMP:20260424T221538
CREATED:20200806T213046Z
LAST-MODIFIED:20200806T213046Z
UID:65792-1597341600-1597345200@krtnradio.com
SUMMARY:Prairie Dog Management Webinar
DESCRIPTION:Thursday\, August 13\, 2020\, 6 -7 P.M.\nVirtual Workshop\n1 CEU Available for those who hold an Applicator’s License\nNMSU San Miguel County Extension Service will be hosting a webinar to discuss\ndifferent Strategies and Techniques in Managing Prairie Dogs. Our presenter will\nbe NMSU Extension Wildlife Specialist Dr. Sam Smallidge. This webinar will be\noffered via Zoom. \nYou may register at the following link: \nhttps://nmsu.zoom.us/meeting/register/tJ0ud-uhqjosG9CyrJ8T4KIzXhaQzgsKlvy \nOr contact San Miguel CES/John Martinez-County Agentf you are an individual with a disability who is in need of auxiliary aid or service to participate\, \nplease contact John Martinez by August 11th at (505) 454-1497 or jdmtz@nmsu.edu.\nCollege of Agricultural\, Consumer and Environmental Sciences\nSan Miguel County Extension Service | 505-454-1497 \nNew Mexico State University is an equal opportunity/affirmative action employer and educator.\nNMSU and the U.S. Department of Agriculture cooperating
URL:https://krtnradio.com/wp/event/prairie-dog-management-webinar/
CATEGORIES:Meetings
ATTACH;FMTTYPE=image/jpeg:https://krtnradio.com/wp/wp-content/uploads/2019/06/NMSU-Logo.jpg
END:VEVENT
END:VCALENDAR