BEGIN:VCALENDAR
VERSION:2.0
PRODID:-//KRTN Enchanted Air Radio - ECPv5.16.4.1//NONSGML v1.0//EN
CALSCALE:GREGORIAN
METHOD:PUBLISH
X-WR-CALNAME:KRTN Enchanted Air Radio
X-ORIGINAL-URL:https://krtnradio.com/wp
X-WR-CALDESC:Events for KRTN Enchanted Air Radio
BEGIN:VTIMEZONE
TZID:America/Denver
BEGIN:DAYLIGHT
TZOFFSETFROM:-0700
TZOFFSETTO:-0600
TZNAME:MDT
DTSTART:20200308T090000
END:DAYLIGHT
BEGIN:STANDARD
TZOFFSETFROM:-0600
TZOFFSETTO:-0700
TZNAME:MST
DTSTART:20201101T080000
END:STANDARD
END:VTIMEZONE
BEGIN:VEVENT
DTSTART;TZID=America/Denver:20200713T170000
DTEND;TZID=America/Denver:20200713T170000
DTSTAMP:20260425T061642
CREATED:20200629T173901Z
LAST-MODIFIED:20200629T173901Z
UID:64155-1594659600-1594659600@krtnradio.com
SUMMARY:Philosophy Café ~ Live Video by Carnegie Public Library
DESCRIPTION:Monday\, July 13\, 2020\, at 5 PM – 6 PM\nLive Video by Carnegie Public Library \nReserve your spot for our next Virtual Philosophy Café by following this link to our website and clicking the green ‘register’ button under Philosophy Café: https://www.carnegiepubliclibrary.org/virtualstorytime. You will recieve an email confirmation and a link to join. \nOn Monday evening\, July 13th at 5pm\, the library will be hosting our monthly Philosophy Café to discuss a very famous work by Plato\, known as the cave allegory. You may have heard of this one before\, maybe from a high school class. If you haven’t heard of it\, or to refresh your memory\, there are many resources available introducing and discussing Plato’s cave. Here is a link to a YouTube video presenting a translation of the cave allegory\, narrated by Orson Welles:\nhttps://www.youtube.com/watch?v=d2afuTvUzBQ&t=308s
URL:https://krtnradio.com/wp/event/philosophy-cafe-live-video-by-carnegie-public-library/
LOCATION:Carnegie Public Library of Trinidad\, 202 N. Animas\, Trinidad\, CO\, 81082\, United States
CATEGORIES:Meetings
ATTACH;FMTTYPE=image/jpeg:https://krtnradio.com/wp/wp-content/uploads/2019/01/philosophy-clipart-canstock11823731-e1591301668121.jpg
END:VEVENT
END:VCALENDAR