BEGIN:VCALENDAR
VERSION:2.0
PRODID:-//KRTN Enchanted Air Radio - ECPv5.16.4.1//NONSGML v1.0//EN
CALSCALE:GREGORIAN
METHOD:PUBLISH
X-WR-CALNAME:KRTN Enchanted Air Radio
X-ORIGINAL-URL:https://krtnradio.com/wp
X-WR-CALDESC:Events for KRTN Enchanted Air Radio
BEGIN:VTIMEZONE
TZID:America/Denver
BEGIN:DAYLIGHT
TZOFFSETFROM:-0700
TZOFFSETTO:-0600
TZNAME:MDT
DTSTART:20200308T090000
END:DAYLIGHT
BEGIN:STANDARD
TZOFFSETFROM:-0600
TZOFFSETTO:-0700
TZNAME:MST
DTSTART:20201101T080000
END:STANDARD
END:VTIMEZONE
BEGIN:VEVENT
DTSTART;TZID=America/Denver:20200920T080000
DTEND;TZID=America/Denver:20200926T170000
DTSTAMP:20260424T154228
CREATED:20200915T173029Z
LAST-MODIFIED:20200915T173029Z
UID:67100-1600588800-1601139600@krtnradio.com
SUMMARY:Philmont Leadership Challenge 2020
DESCRIPTION:You are invited to attend Philmont Leadership Challenge (PLC) in 2020!\nPhilmont Leadership Challenge focuses on practical applications of Wood Badge skills. Using outdoor experiential learning activities and real-world situations give participants the opportunity to observe and participate in team-building and problem-solving\, and to effectively manage challenging situations. The course provides participants with an experience that exemplifies the potential of servant leadership through challenging and engaging activities and motivates you to follow a life of helping others succeed based on the values expressed in the Scout Oath and Scout Law.\n\nRegistration for the 2020 Philmont Leadership Challenge is open now\, and the course is expected to fill quickly: https://www.philmontscoutranch.org/ptc/plc/. Plan now to attend!\n\nEligibility\n• Be a registered Scouting adult leader\n• Have completed a Wood Badge course (you may still be working on your ticket)\n• Complete Annual Health & Medical Record (parts A-C)\n\nCourse Dates\nSeptember 20-26\, 2020\nCourse Fee\n• $450 per person\n• $250 deposit due at registration\, balance due 30 days prior to arrival\n\nCourse Location\nPhilmont Scout Ranch\n17 Deer Run Road\nCimarron\, NM 87714\n\nCourse Director\nJanna Polik\nGolden Empire Council\n\nFor more details\, download the PLC Guidebook: https://www.philmontscoutranch.org/2020plcguidebook/\, and check out the Leadership Challenge on Facebook: \nhttps://www.facebook.com/philmontleadershipchallenge/\n. \n#PhilmontLeadershipChallenge\n#WoodBadge\n#PrimusInterPares\n#ServantLeadership\n#TrainingStrengthensScouting \n\n\n 
URL:https://krtnradio.com/wp/event/philmont-leadership-challenge-2020/
LOCATION:Philmont Scout Ranch
CATEGORIES:Area Events
ATTACH;FMTTYPE=image/jpeg:https://krtnradio.com/wp/wp-content/uploads/2020/09/Philmont-Leaderdship-Challenge-2020.jpg
END:VEVENT
END:VCALENDAR