BEGIN:VCALENDAR
VERSION:2.0
PRODID:-//KRTN Enchanted Air Radio - ECPv5.16.4.1//NONSGML v1.0//EN
CALSCALE:GREGORIAN
METHOD:PUBLISH
X-WR-CALNAME:KRTN Enchanted Air Radio
X-ORIGINAL-URL:https://krtnradio.com/wp
X-WR-CALDESC:Events for KRTN Enchanted Air Radio
BEGIN:VTIMEZONE
TZID:America/Denver
BEGIN:DAYLIGHT
TZOFFSETFROM:-0700
TZOFFSETTO:-0600
TZNAME:MDT
DTSTART:20200308T090000
END:DAYLIGHT
BEGIN:STANDARD
TZOFFSETFROM:-0600
TZOFFSETTO:-0700
TZNAME:MST
DTSTART:20201101T080000
END:STANDARD
END:VTIMEZONE
BEGIN:VEVENT
DTSTART;TZID=America/Denver:20200320T130000
DTEND;TZID=America/Denver:20200320T140000
DTSTAMP:20260425T201046
CREATED:20200107T233226Z
LAST-MODIFIED:20200317T202543Z
UID:58077-1584709200-1584712800@krtnradio.com
SUMMARY:Cancelled:PAWS for Reading! ~ Carnegie Public Library
DESCRIPTION:A volunteer from Noah’s Ark will bring gentle animals to the library. \nYou’ll get some private space to be with a dog or cat and read them a story. \nYou know\, a nice thing about reading to dogs is that they don’t correct you\, they just listen! \nOpen to all ages. \nKids under 10 must be accompanied by an adult. \nAlways remember to take a ‘paws’ out of your day for reading!
URL:https://krtnradio.com/wp/event/paws-for-reading-carnegie-public-library-3/
LOCATION:Trinidad Carnegie Public Library\, 120 S. Maple\, Trinidad\, CO\, 81082
CATEGORIES:Meetings
ATTACH;FMTTYPE=image/jpeg:https://krtnradio.com/wp/wp-content/uploads/2020/01/Paws-for-Reading-Carnegie-Library.jpg
END:VEVENT
END:VCALENDAR