BEGIN:VCALENDAR
VERSION:2.0
PRODID:-//KRTN Enchanted Air Radio - ECPv5.16.4.1//NONSGML v1.0//EN
CALSCALE:GREGORIAN
METHOD:PUBLISH
X-WR-CALNAME:KRTN Enchanted Air Radio
X-ORIGINAL-URL:https://krtnradio.com/wp
X-WR-CALDESC:Events for KRTN Enchanted Air Radio
BEGIN:VTIMEZONE
TZID:America/Denver
BEGIN:DAYLIGHT
TZOFFSETFROM:-0700
TZOFFSETTO:-0600
TZNAME:MDT
DTSTART:20200308T090000
END:DAYLIGHT
BEGIN:STANDARD
TZOFFSETFROM:-0600
TZOFFSETTO:-0700
TZNAME:MST
DTSTART:20201101T080000
END:STANDARD
END:VTIMEZONE
BEGIN:VEVENT
DTSTART;TZID=America/Denver:20200319T150000
DTEND;TZID=America/Denver:20200319T170000
DTSTAMP:20260425T201142
CREATED:20200114T215714Z
LAST-MODIFIED:20200317T204143Z
UID:58568-1584630000-1584637200@krtnradio.com
SUMMARY:Cancelled: Oral Histories ~ Adult Reading Program ~ Carnegie Public Library
DESCRIPTION:The people who grew up in or moved to Trinidad have interesting stories to tell. Come to the History Room and record your unique contribution to local history! Ongoing every Thursday from 3 pm to 5 pm. \nhttps://www.carnegiepubliclibrary.org/
URL:https://krtnradio.com/wp/event/oral-histories-adult-reading-program-carnegie-public-library-10/
LOCATION:Carnegie Public Library of Trinidad\, 202 N. Animas\, Trinidad\, CO\, 81082\, United States
CATEGORIES:Meetings
ATTACH;FMTTYPE=image/jpeg:https://krtnradio.com/wp/wp-content/uploads/2020/01/speaking-clipart-speaking-up.jpg
END:VEVENT
END:VCALENDAR