BEGIN:VCALENDAR
VERSION:2.0
PRODID:-//KRTN Enchanted Air Radio - ECPv5.16.4.1//NONSGML v1.0//EN
CALSCALE:GREGORIAN
METHOD:PUBLISH
X-WR-CALNAME:KRTN Enchanted Air Radio
X-ORIGINAL-URL:https://krtnradio.com/wp
X-WR-CALDESC:Events for KRTN Enchanted Air Radio
BEGIN:VTIMEZONE
TZID:America/Denver
BEGIN:DAYLIGHT
TZOFFSETFROM:-0700
TZOFFSETTO:-0600
TZNAME:MDT
DTSTART:20180311T090000
END:DAYLIGHT
BEGIN:STANDARD
TZOFFSETFROM:-0600
TZOFFSETTO:-0700
TZNAME:MST
DTSTART:20181104T080000
END:STANDARD
END:VTIMEZONE
BEGIN:VEVENT
DTSTART;TZID=America/Denver:20180930T120000
DTEND;TZID=America/Denver:20180930T180000
DTSTAMP:20260425T211600
CREATED:20180927T175906Z
LAST-MODIFIED:20180927T175906Z
UID:43813-1538308800-1538330400@krtnradio.com
SUMMARY:Open Swim: Raton Aquatic Center
DESCRIPTION:The Aquatic Center charges an admission fee not a swim fee. All patrons are subject to the admission fee regardless of whether they are swimming or not. \nCall the Aquatic Center @ (575) 445-4271 for special pool accommodations\, party reservations and pool rentals.\nFor more information visit us on face book or at:\nwww.ratonrecreation.com
URL:https://krtnradio.com/wp/event/open-swim-raton-aquatic-center-3/
LOCATION:Raton Regional Aquatic Center\, Raton  \, NM\, United States
CATEGORIES:Area Events
ATTACH;FMTTYPE=image/jpeg:https://krtnradio.com/wp/wp-content/uploads/2018/09/OpenSwim-1.jpg
END:VEVENT
END:VCALENDAR