BEGIN:VCALENDAR
VERSION:2.0
PRODID:-//KRTN Enchanted Air Radio - ECPv5.16.4.1//NONSGML v1.0//EN
CALSCALE:GREGORIAN
METHOD:PUBLISH
X-WR-CALNAME:KRTN Enchanted Air Radio
X-ORIGINAL-URL:https://krtnradio.com/wp
X-WR-CALDESC:Events for KRTN Enchanted Air Radio
BEGIN:VTIMEZONE
TZID:America/Denver
BEGIN:DAYLIGHT
TZOFFSETFROM:-0700
TZOFFSETTO:-0600
TZNAME:MDT
DTSTART:20250309T090000
END:DAYLIGHT
BEGIN:STANDARD
TZOFFSETFROM:-0600
TZOFFSETTO:-0700
TZNAME:MST
DTSTART:20251102T080000
END:STANDARD
END:VTIMEZONE
BEGIN:VEVENT
DTSTART;TZID=America/Denver:20250427T160000
DTEND;TZID=America/Denver:20250427T193000
DTSTAMP:20260424T064908
CREATED:20250319T175726Z
LAST-MODIFIED:20250319T175726Z
UID:94815-1745769600-1745782200@krtnradio.com
SUMMARY:Open Screen Night Shattered Dreams Premiere
DESCRIPTION:
URL:https://krtnradio.com/wp/event/open-screen-night-shattered-dreams-premiere/
CATEGORIES:Area Events
END:VEVENT
END:VCALENDAR