BEGIN:VCALENDAR
VERSION:2.0
PRODID:-//KRTN Enchanted Air Radio - ECPv5.16.4.1//NONSGML v1.0//EN
CALSCALE:GREGORIAN
METHOD:PUBLISH
X-WR-CALNAME:KRTN Enchanted Air Radio
X-ORIGINAL-URL:https://krtnradio.com/wp
X-WR-CALDESC:Events for KRTN Enchanted Air Radio
BEGIN:VTIMEZONE
TZID:America/Denver
BEGIN:DAYLIGHT
TZOFFSETFROM:-0700
TZOFFSETTO:-0600
TZNAME:MDT
DTSTART:20200308T090000
END:DAYLIGHT
BEGIN:STANDARD
TZOFFSETFROM:-0600
TZOFFSETTO:-0700
TZNAME:MST
DTSTART:20201101T080000
END:STANDARD
END:VTIMEZONE
BEGIN:VEVENT
DTSTART;TZID=America/Denver:20200828T130000
DTEND;TZID=America/Denver:20200828T153000
DTSTAMP:20260424T152033
CREATED:20200828T215039Z
LAST-MODIFIED:20200828T215039Z
UID:66391-1598619600-1598628600@krtnradio.com
SUMMARY:Open Registration for High School Equivalency Class
DESCRIPTION:The High School Equivalency classes will begin next week at The Center for Community Innovation building (130 Park Ave).   Open registration on Monday\, August 31\, 2020\,  from 1:00p.m. – 3:30 pm\nWe are developing a schedule to work either remotely or on a one-to-one basis\, so it is important that students contact Pam Hunnicutt so we can work with their schedules.\nFor more information\, contact Pam Hunnicutt @ 575.707.8388 or phunnicutt@luna.edu\n\n \n\n\nPamela Hunnicutt \nAE Instructor\nLuna Community College\nRaton Site\nThe Center\n130 Park Avenue\nRaton\, NM  87740\n\n\n\n\n\n 
URL:https://krtnradio.com/wp/event/open-registration-for-high-school-equivalency-class/
LOCATION:Luna Community College- Raton Site\, 130 Park Ave.\, Raton\, NM
CATEGORIES:Meetings
ATTACH;FMTTYPE=image/jpeg:https://krtnradio.com/wp/wp-content/uploads/2020/08/high-school-equivalancy-test.jpg
END:VEVENT
END:VCALENDAR