BEGIN:VCALENDAR
VERSION:2.0
PRODID:-//KRTN Enchanted Air Radio - ECPv5.16.4.1//NONSGML v1.0//EN
CALSCALE:GREGORIAN
METHOD:PUBLISH
X-WR-CALNAME:KRTN Enchanted Air Radio
X-ORIGINAL-URL:https://krtnradio.com/wp
X-WR-CALDESC:Events for KRTN Enchanted Air Radio
BEGIN:VTIMEZONE
TZID:America/Denver
BEGIN:DAYLIGHT
TZOFFSETFROM:-0700
TZOFFSETTO:-0600
TZNAME:MDT
DTSTART:20200308T090000
END:DAYLIGHT
BEGIN:STANDARD
TZOFFSETFROM:-0600
TZOFFSETTO:-0700
TZNAME:MST
DTSTART:20201101T080000
END:STANDARD
END:VTIMEZONE
BEGIN:VEVENT
DTSTART;TZID=America/Denver:20200717T090000
DTEND;TZID=America/Denver:20200717T150000
DTSTAMP:20260425T061519
CREATED:20200625T213042Z
LAST-MODIFIED:20200720T151645Z
UID:64088-1594976400-1594998000@krtnradio.com
SUMMARY:Open Hands Thrift Store Cimarron
DESCRIPTION:OPEN HANDS THRIFT STORE WILL BE OPEN \nFRIDAYS 9 AM TO 3 PM \nSATURDAYS 9 AM TO 3 PM \nMUST WEAR MASK ONLY 3 SHOPPERS INSIDE AT A TIME FOR SOCIAL DISTANCING \nWE ARE ONLY TAKING DONATIONS ON FRIDAY AND SATURDAYS IF ITEMS ARE LEFT AT THE SHED THEY MUST BE THROWN AWAY SO PLEASE FOLLOW THE SAFETY AND DROPOFF GUIDELINES. WE WILL TAKE FURNITURE BY APPOINTMENT PLEASE CALL THE NUMBERS ON THE DOOR. THANK YOU FOR HELPING US GET THROUGH THIS TIME.
URL:https://krtnradio.com/wp/event/open-hands-thrift-store-cimarron-7/
LOCATION:Open Hands Thrift Store\, 357 E 9th Street\, Cimarron\, NM\, 87714
CATEGORIES:Meetings
ATTACH;FMTTYPE=image/png:https://krtnradio.com/wp/wp-content/uploads/2019/04/Social-Worker-clip-art.png
END:VEVENT
END:VCALENDAR