BEGIN:VCALENDAR
VERSION:2.0
PRODID:-//KRTN Enchanted Air Radio - ECPv5.16.4.1//NONSGML v1.0//EN
CALSCALE:GREGORIAN
METHOD:PUBLISH
X-WR-CALNAME:KRTN Enchanted Air Radio
X-ORIGINAL-URL:https://krtnradio.com/wp
X-WR-CALDESC:Events for KRTN Enchanted Air Radio
BEGIN:VTIMEZONE
TZID:America/Denver
BEGIN:DAYLIGHT
TZOFFSETFROM:-0700
TZOFFSETTO:-0600
TZNAME:MDT
DTSTART:20260308T090000
END:DAYLIGHT
BEGIN:STANDARD
TZOFFSETFROM:-0600
TZOFFSETTO:-0700
TZNAME:MST
DTSTART:20261101T080000
END:STANDARD
END:VTIMEZONE
BEGIN:VEVENT
DTSTART;VALUE=DATE:20260426
DTEND;VALUE=DATE:20260427
DTSTAMP:20260423T024350
CREATED:20260408T202731Z
LAST-MODIFIED:20260408T202731Z
UID:100525-1777161600-1777247999@krtnradio.com
SUMMARY:NRA- Rocky Mountain Vintagers A Double Gun Shooting Club
DESCRIPTION:Rocky Mountain Vintagers\n \nDate\nApr 24 – 26\, 2026 | Add to Calendar \nLocation\nSmall Bore Conventional; Sporting Clays; 5-Stand\,Trap Field \nDescription\n\n\nJoin the Rocky Mountain Vintagers\, a Colorado-based double gun shooting club\, for a day of shooting and camaraderie. Designed for enthusiasts of both antique and modern side-by-side shotguns and rifles\, these laid-back events bring together like-minded participants—men\, women\, and young adults—to enjoy clay target shooting\, pheasant hunts\, and other field activities in a fun and inviting setting. There’s no competitive scoring\, no trophies—just the simple joy of the sport\, shared stories\, and good company. Events emphasize proper gun skills\, etiquette\, and safety\, and many include social gatherings with food and refreshments. \n\n\nLearn More!  \nContact\nTom Carter – temporalsavage@yahoo.com – 970-333-1804 \nBefore You Arrive\nEvery guest must read and sigh the online Waiver before they are allowed into the center. \nREAD AND SIGN 
URL:https://krtnradio.com/wp/event/nra-rocky-mountain-vintagers-a-double-gun-shooting-club-3/
CATEGORIES:Area Events
END:VEVENT
END:VCALENDAR