BEGIN:VCALENDAR
VERSION:2.0
PRODID:-//KRTN Enchanted Air Radio - ECPv5.16.4.1//NONSGML v1.0//EN
CALSCALE:GREGORIAN
METHOD:PUBLISH
X-WR-CALNAME:KRTN Enchanted Air Radio
X-ORIGINAL-URL:https://krtnradio.com/wp
X-WR-CALDESC:Events for KRTN Enchanted Air Radio
BEGIN:VTIMEZONE
TZID:America/Denver
BEGIN:DAYLIGHT
TZOFFSETFROM:-0700
TZOFFSETTO:-0600
TZNAME:MDT
DTSTART:20260308T090000
END:DAYLIGHT
BEGIN:STANDARD
TZOFFSETFROM:-0600
TZOFFSETTO:-0700
TZNAME:MST
DTSTART:20261101T080000
END:STANDARD
END:VTIMEZONE
BEGIN:VEVENT
DTSTART;VALUE=DATE:20260425
DTEND;VALUE=DATE:20260426
DTSTAMP:20260422T221041
CREATED:20260408T203526Z
LAST-MODIFIED:20260408T203526Z
UID:100534-1777075200-1777161599@krtnradio.com
SUMMARY:NRA- Precision Tactical 2-Rifle Match
DESCRIPTION:Precision Tactical 2-Rifle Match\n \nDate\nApr 25 – 26\, 2026 | Add to Calendar \nLocation\nNRA Whittington Center- Coal Canyon (From Raton NM\, head west on NM-555 W/York Canyon Rd for 5.4 miles) \nDescription\n\n\nPrecision/Tactical 2-Rifle \nThis event combines Action AR and Precision Rifle with some movement and different positions for an event that tests all your rifle skills from contact distance to 1000 yards or more.. Competitors can use all the equipment they can carry with both guns…tripods\, bipods\, bags\, to make the different positions the best they can. Each day is about a 2 mile total walk in between stages. Each stage has you shooting both rifles in this point based competition. \n  \n  \n\n\nContact\nBrad Riley – briley@xit.net – 806-333-4448 \nBefore You Arrive\nEvery guest must read and sigh the online Waiver before they are allowed into the center. \nREAD AND SIGN 
URL:https://krtnradio.com/wp/event/nra-precision-tactical-2-rifle-match/
CATEGORIES:Area Events
END:VEVENT
END:VCALENDAR