BEGIN:VCALENDAR
VERSION:2.0
PRODID:-//KRTN Enchanted Air Radio - ECPv5.16.4.1//NONSGML v1.0//EN
CALSCALE:GREGORIAN
METHOD:PUBLISH
X-WR-CALNAME:KRTN Enchanted Air Radio
X-ORIGINAL-URL:https://krtnradio.com/wp
X-WR-CALDESC:Events for KRTN Enchanted Air Radio
BEGIN:VTIMEZONE
TZID:America/Denver
BEGIN:DAYLIGHT
TZOFFSETFROM:-0700
TZOFFSETTO:-0600
TZNAME:MDT
DTSTART:20260308T090000
END:DAYLIGHT
BEGIN:STANDARD
TZOFFSETFROM:-0600
TZOFFSETTO:-0700
TZNAME:MST
DTSTART:20261101T080000
END:STANDARD
END:VTIMEZONE
BEGIN:VEVENT
DTSTART;VALUE=DATE:20260412
DTEND;VALUE=DATE:20260413
DTSTAMP:20260423T123523
CREATED:20260408T195803Z
LAST-MODIFIED:20260408T195803Z
UID:100486-1775952000-1776038399@krtnradio.com
SUMMARY:NRA- Long Range Pistol Sil.
DESCRIPTION:Apr 12\, 2026\n  \nLocation Long Range Pistol Sil.\n  \nDescription.22 BPCR match is usually 60 rounds. 15 shots at 50 m\, fired off-hand\, 15 at 100m pig\, 15 at 150 m turkey and 15 at 200m ram fired from any position.\n\nMatch May be shortened to 40 round due to weather or large number of shooters. \n  \nThe targets are approximately 2/5 reduction from full sized silhouette targets. \nammo restricted to 22lr\, rifles replicas or original period single shot. \nwe will allow new shooters to use any 22 rifle while learning the match. \n  \nSet targets around 8 match starts at 9am. \n\nContactHugh Wilson – hueyw@comcast.net – 719-846-2458\n  \nBefore You Arrive\nEvery guest must read and sigh the online Waiver before they are allowed into the center.\nREAD AND SIGN 
URL:https://krtnradio.com/wp/event/nra-long-range-pistol-sil/
CATEGORIES:Area Events
ATTACH;FMTTYPE=image/jpeg:https://krtnradio.com/wp/wp-content/uploads/2026/04/Screenshot-2026-04-08-135507.jpg
END:VEVENT
END:VCALENDAR