BEGIN:VCALENDAR
VERSION:2.0
PRODID:-//KRTN Enchanted Air Radio - ECPv5.16.4.1//NONSGML v1.0//EN
CALSCALE:GREGORIAN
METHOD:PUBLISH
X-WR-CALNAME:KRTN Enchanted Air Radio
X-ORIGINAL-URL:https://krtnradio.com/wp
X-WR-CALDESC:Events for KRTN Enchanted Air Radio
BEGIN:VTIMEZONE
TZID:America/Denver
BEGIN:DAYLIGHT
TZOFFSETFROM:-0700
TZOFFSETTO:-0600
TZNAME:MDT
DTSTART:20260308T090000
END:DAYLIGHT
BEGIN:STANDARD
TZOFFSETFROM:-0600
TZOFFSETTO:-0700
TZNAME:MST
DTSTART:20261101T080000
END:STANDARD
END:VTIMEZONE
BEGIN:VEVENT
DTSTART;TZID=America/Denver:20260423T073000
DTEND;TZID=America/Denver:20260423T120000
DTSTAMP:20260422T221041
CREATED:20260408T202329Z
LAST-MODIFIED:20260408T202329Z
UID:100517-1776929400-1776945600@krtnradio.com
SUMMARY:NRA-Defensive Pistol Refresher Course
DESCRIPTION:Defensive Pistol Refresher Course\n\n\n\n\n\n \n\nStudents on the firing line sharpen their skills at close range. \n\n\n\n\n\n\n\n\n\nDefensive Pistol Refresher Course\nApril 23\, 2026 See More Dates \n0730-1200 | Add to Calendar \nENROLL NOW \n\nThe Whittington U’s Defensive Pistol Refresher Course is for previous Whittington U students who have attended at least Defensive Pistol Level I in the past.  The Refresher Course is intended to refresh the knowledge & skills learned at the Defensive Pistol Level I Course and prepare students to progress into the next level in the progressive curriculum. These techniques are applied throughout all levels of the Defensive Pistol courses.  The Refresher Course will be only ½ day in length.  The Whittington U Defensive Pistol series focuses on the use of a firearm as a Means of Last Resort\, with the defense of ourselves and our loved ones as part of an overall lifestyle change. \nCourse Syllabus\nDefensive Pistol Refresher will cover: \n\n4 Fundamentals of Defensive Marksmanship\n3-Position Presentation Technique\nStatic Fire Drills\nPrinciples of Cover (PoC)\nPoC Movement Drills on a Reactive Fire Range\n\n\nCourse Cost\n$150.00 \nCourse Duration\n1/2 Day \nNotes\n\n\nThis is a progressive curriculum. We require students to take the courses in succession: Defensive Pistol I – Defensive Pistol II – Defensive Pistol III – Defensive Pistol Masters\nThe Defensive Pistol Refresher Course is for Any previous Whittington U student who has taken at least Defensive Pistol I and successfully completed it\nCourse participants may also purchase an ammunition package with the appropriate round count. (Call to check availability of Ammunition Packages)\nAMMUNITION PACKAGE IS RESTRICTED TO ONE PER PERSON PER COURSE.\nIf you would like to register more than one person for this course please add it to your cart as two separate items.\n\n\n\n\n\n\n\n\n\nDefensive Pistol Refresher Course Requirements \n\n\n\n\n\nDefensive Pistol Refresher Course Schedule (subject to change) \n\n\n\n\nSave Time Before You Arrive!\nAll guests\, visitors\, spectators\, and competitors aged 18 and older must complete and sign the online waiver before entering the NRA Whittington Center. For those under 18\, a parent or legal guardian must complete and sign the form on their behalf. \nWaivers are required once per calendar year\, starting on or after January 1st. \nREAD AND SIGN ONLINE \n 
URL:https://krtnradio.com/wp/event/nra-defensive-pistol-refresher-course/
CATEGORIES:Area Events
END:VEVENT
END:VCALENDAR