BEGIN:VCALENDAR
VERSION:2.0
PRODID:-//KRTN Enchanted Air Radio - ECPv5.16.4.1//NONSGML v1.0//EN
CALSCALE:GREGORIAN
METHOD:PUBLISH
X-WR-CALNAME:KRTN Enchanted Air Radio
X-ORIGINAL-URL:https://krtnradio.com/wp
X-WR-CALDESC:Events for KRTN Enchanted Air Radio
BEGIN:VTIMEZONE
TZID:America/Denver
BEGIN:DAYLIGHT
TZOFFSETFROM:-0700
TZOFFSETTO:-0600
TZNAME:MDT
DTSTART:20260308T090000
END:DAYLIGHT
BEGIN:STANDARD
TZOFFSETFROM:-0600
TZOFFSETTO:-0700
TZNAME:MST
DTSTART:20261101T080000
END:STANDARD
END:VTIMEZONE
BEGIN:VEVENT
DTSTART;VALUE=DATE:20260428
DTEND;VALUE=DATE:20260429
DTSTAMP:20260423T030333
CREATED:20260408T205655Z
LAST-MODIFIED:20260408T205655Z
UID:100558-1777334400-1777420799@krtnradio.com
SUMMARY:NRA- Defensive Pistol III Course
DESCRIPTION:Defensive Pistol III Course\n\n\n\n\n \n\nDefensive Pistol III Course \n\n\n\n\n\n\n\n\n\nDefensive Pistol III Course\nApril 28 – 29\, 2026 See More Dates \nDay 1 1300-0030 | Add to Calendar \nENROLL NOW \n\nThe Whittington U’s Defensive Pistol III Course is the Advanced Level Defensive Sidearm instruction that focuses on Lowlight/No-light engagements\, while employing a strong fundamental interaction with the firearm\, and flashlight\, along with Principles of Cover. Support side engagements with the Non-Dominant hand are also included in this training\, with a scenario-based engagement rounding out the Course. \nThe WU Defensive Pistol series focuses on Violence as a Means of Last Resort with the defense of ourselves and our loved ones as part of an overall lifestyle change. \nCourse Syllabus\n\n\nStatic Fire/Body Position Refresher Drills\nIndividual Movement/Principles of Cover (PoC) Drills on Reactive Fire\nRange\nAdvanced Movement Drills (AMD)\nLowlight/No-light Engagements\nSupport Side Engagements\nScenario Based Engagement\n\n\nCourse Cost\n$300 \nCourse Duration\nTwo Days \nNotes\n\n\nThis is a progressive curriculum. We require students to take the courses in succession: Defensive Pistol I –  Defensive Pistol II – Defensive Pistol III – Defensive Pistol Masters\nCourse participants may also purchase an ammunition package with the appropriate round count. (Call to check availability of Ammunition Packages)\nAMMUNITION PACKAGE IS RESTRICTED TO ONE PER PERSON PER COURSE\nIf you would like to register more than one person for this course please add it to your cart as two separate items.\n\n\n\n\n\n\n\n\n\nDefensive Pistol III Course Requirements \n\n\n\n\n\nDefensive Pistol III Daily Schedule (subject to change) \n\n\n\n\nSave Time Before You Arrive!\nAll guests\, visitors\, spectators\, and competitors aged 18 and older must complete and sign the online waiver before entering the NRA Whittington Center. For those under 18\, a parent or legal guardian must complete and sign the form on their behalf. \nWaivers are required once per calendar year\, starting on or after January 1st. \nREAD AND SIGN ONLINE \nOr \nYou can fill it out when you arrive on the property. Just know that it might slow down the check-in process\, especially during the busy season or during large events!  \n\n\nSecure Your Spot in this Course\nEnroll Now
URL:https://krtnradio.com/wp/event/nra-defensive-pistol-iii-course/
CATEGORIES:Area Events
END:VEVENT
END:VCALENDAR