BEGIN:VCALENDAR
VERSION:2.0
PRODID:-//KRTN Enchanted Air Radio - ECPv5.16.4.1//NONSGML v1.0//EN
CALSCALE:GREGORIAN
METHOD:PUBLISH
X-WR-CALNAME:KRTN Enchanted Air Radio
X-ORIGINAL-URL:https://krtnradio.com/wp
X-WR-CALDESC:Events for KRTN Enchanted Air Radio
BEGIN:VTIMEZONE
TZID:America/Denver
BEGIN:DAYLIGHT
TZOFFSETFROM:-0700
TZOFFSETTO:-0600
TZNAME:MDT
DTSTART:20260308T090000
END:DAYLIGHT
BEGIN:STANDARD
TZOFFSETFROM:-0600
TZOFFSETTO:-0700
TZNAME:MST
DTSTART:20261101T080000
END:STANDARD
END:VTIMEZONE
BEGIN:VEVENT
DTSTART;TZID=America/Denver:20260426T073000
DTEND;TZID=America/Denver:20260426T160000
DTSTAMP:20260423T030333
CREATED:20260408T204635Z
LAST-MODIFIED:20260408T204635Z
UID:100546-1777188600-1777219200@krtnradio.com
SUMMARY:NRA- Defensive Pistol II Course
DESCRIPTION:Defensive Pistol II Course\n\n\n\n\n\n \n\n\n\n\n\n\nDefensive Pistol II Course \n\n\n\n\n\n\n\n\n\n\nApril 26 – 27\, 2026 See More Dates \n0730-1600 Daily | Add to Calendar \nENROLL NOW \n\nThe Whittington U’s Defensive Pistol II Course is the Intermediate to Advanced Level of Defensive Sidearm instruction that focuses on the cognitive disconnect that occurs when the mind is under emotional duress. \nAdvanced movement drills and alternate firing positions are the highlight of this course. \nThe WU Defensive Pistol series focuses on Violence as a Means of Last Resort with the defense of ourselves and our loved ones as part of an overall lifestyle change. \nCourse Syllabus\n\n\nStatic Fire/Body Position Refresher Drills\nIndividual Movement/Principles of Cover (PoC) Drills on Reactive Fire Range\nAlternate Firing Positions (AFP)\nAdvanced Movement Drills\n\nPlanes Drills\nFree Movement Drill (FMD)\n\n\n\n\nCourse Cost\n$300 \nCourse Duration\nTwo Days \nNotes\n\n\nThis is a progressive curriculum. We require students to take the courses in succession: Defensive Pistol I – Defensive Pistol II – Defensive Pistol III – Defensive Pistol Masters\nCourse participants may also purchase an ammunition package with the appropriate round count. (Call to check availability of Ammunition Packages)\nAMMUNITION PACKAGE IS RESTRICTED TO ONE PER PERSON PER COURSE\nIf you would like to register more than one person for this course please add it to your cart as two separate items.\n\n\n\n\n\n\n\n\n\nDefensive Pistol II Course Requirements \n\n\n\n\n\nDefensive Pistol II Daily Schedule (subject to change) \n\n\n\n\nSave Time Before You Arrive!\nAll guests\, visitors\, spectators\, and competitors aged 18 and older must complete and sign the online waiver before entering the NRA Whittington Center. For those under 18\, a parent or legal guardian must complete and sign the form on their behalf. \nWaivers are required once per calendar year\, starting on or after January 1st. \nREAD AND SIGN ONLINE \nOr \nYou can fill it out when you arrive on the property. Just know that it might slow down the check-in process\, especially during the busy season or during large events!  \n\n\nSecure Your Spot in this Course\nEnroll Now
URL:https://krtnradio.com/wp/event/nra-defensive-pistol-ii-course/
CATEGORIES:Area Events
END:VEVENT
END:VCALENDAR