BEGIN:VCALENDAR
VERSION:2.0
PRODID:-//KRTN Enchanted Air Radio - ECPv5.16.4.1//NONSGML v1.0//EN
CALSCALE:GREGORIAN
METHOD:PUBLISH
X-WR-CALNAME:KRTN Enchanted Air Radio
X-ORIGINAL-URL:https://krtnradio.com/wp
X-WR-CALDESC:Events for KRTN Enchanted Air Radio
BEGIN:VTIMEZONE
TZID:America/Denver
BEGIN:DAYLIGHT
TZOFFSETFROM:-0700
TZOFFSETTO:-0600
TZNAME:MDT
DTSTART:20260308T090000
END:DAYLIGHT
BEGIN:STANDARD
TZOFFSETFROM:-0600
TZOFFSETTO:-0700
TZNAME:MST
DTSTART:20261101T080000
END:STANDARD
END:VTIMEZONE
BEGIN:VEVENT
DTSTART;TZID=America/Denver:20260426T073000
DTEND;TZID=America/Denver:20260426T160000
DTSTAMP:20260423T030333
CREATED:20260408T203312Z
LAST-MODIFIED:20260408T203312Z
UID:100531-1777188600-1777219200@krtnradio.com
SUMMARY:NRA- Defensive Pistol I Course
DESCRIPTION:Defensive Pistol I Course\n\n\n\n\n\n\n \n\n\n\n\n\n\n\n\n\n\n\n\n\n\n\n\nStudents on the firing line sharpen their skills at close range. \n\n\n\n\n\n\n\n\n\n\nDefensive Pistol I Course\nApril 24 – 25\, 2026 See More Dates \n0730-1600 Daily | Add to Calendar \nENROLL NOW \n\nThe Whittington U’s Defensive Pistol I Course is an Intermediate Level Defensive Sidearm instruction\, basic handgun experience is strongly recommended such as proper gun safety\, gun handling and knowledge of your firearm. \nThis course focuses on the everyday implementation of the Firearm into our lives. \nThe WU Defensive Pistol series focuses on Violence as a Means of Last Resort\, with the defense of ourselves and our loved ones as part of an overall lifestyle change. \nCourse Syllabus\n\n\nClassroom Instruction\n\nIntroduction\nDefensive Posture\nFundamentals of Defensive Marksmanship\n3-Position Presentation Technique\n\n\nStatic Fire Drills\nPrinciples of Cover (PoC)\nPoC Movement Drills on a Reactive Fire Range\n\n\nCourse Cost\n$300 \nCourse Duration\nTwo Days \nNotes\n\n\nThis is a progressive curriculum. We require students to take the courses in succession: Defensive Pistol I – Defensive Pistol II – Defensive Pistol III – Defensive Pistol Masters\nCourse participants may also purchase an ammunition package with the appropriate round count. (Call to check availability of Ammunition Packages)\nAMMUNITION PACKAGE IS RESTRICTED TO ONE PER PERSON PER COURSE.\nIf you would like to register more than one person for this course please add it to your cart as two separate items.\n\n\n\n\n\n\n\n\n\nDefensive Pistol I Course Requirements \n\n\n\n\n\nDefensive Pistol I Daily Schedule (subject to change) \n\n\n\n\nSave Time Before You Arrive!\nAll guests\, visitors\, spectators\, and competitors aged 18 and older must complete and sign the online waiver before entering the NRA Whittington Center. For those under 18\, a parent or legal guardian must complete and sign the form on their behalf. \nWaivers are required once per calendar year\, starting on or after January 1st. \nREAD AND SIGN ONLINE
URL:https://krtnradio.com/wp/event/nra-defensive-pistol-i-course-2/
CATEGORIES:Area Events
END:VEVENT
END:VCALENDAR