BEGIN:VCALENDAR
VERSION:2.0
PRODID:-//KRTN Enchanted Air Radio - ECPv5.16.4.1//NONSGML v1.0//EN
CALSCALE:GREGORIAN
METHOD:PUBLISH
X-WR-CALNAME:KRTN Enchanted Air Radio
X-ORIGINAL-URL:https://krtnradio.com/wp
X-WR-CALDESC:Events for KRTN Enchanted Air Radio
BEGIN:VTIMEZONE
TZID:America/Denver
BEGIN:DAYLIGHT
TZOFFSETFROM:-0700
TZOFFSETTO:-0600
TZNAME:MDT
DTSTART:20260308T090000
END:DAYLIGHT
BEGIN:STANDARD
TZOFFSETFROM:-0600
TZOFFSETTO:-0700
TZNAME:MST
DTSTART:20261101T080000
END:STANDARD
END:VTIMEZONE
BEGIN:VEVENT
DTSTART;VALUE=DATE:20260503
DTEND;VALUE=DATE:20260504
DTSTAMP:20260423T073926
CREATED:20260408T211521Z
LAST-MODIFIED:20260408T211521Z
UID:100579-1777766400-1777852799@krtnradio.com
SUMMARY:NRA- Coal Canyon Precision Rifle Match
DESCRIPTION:Coal Canyon Precision Rifle Match\n \nDate\nMay 3\, 2026 | Add to Calendar \nLocation\nCoal Canyon (From Raton NM\, head west on NM-555 W/York Canyon Rd for 5.4 miles) \nDescription\n\n\nThe match format is 10 stages spread over a 1 mile distance and involves a minimum of 2 miles walking while carrying all gear.  Each stage has 6 targets at varying distances to be engaged with only one shot each.  Target distances are known to the shooter.  Shooters must complete each stage’s target engagements within 4 minutes.  With one point per hit\, the maximum score is 60 points. See rules for additional details.  Most stages accommodate prone position shooting\, however\, some may require elevated shooting positions\, shooting sticks\, etc. \nWe setup the match starting at 1:00 PM on Saturday (unless posted otherwise) and can always use the help of a few people if you want to come out and help.  Our practice range is open after setup to registered competitors from 3:00-5:00 PM and again from 7:00-7:30 AM Sunday.  Note that the start time of the Saturday practice session is approximate and may be delayed if additional time is required to complete match setup. \nTypical equipment used includes: a rifle capable of 1 MOA accuracy; rifle optics allowing precise hold-over and windage for small targets from 200 – 900 yards; shooting sticks and/or tripod; binoculars to spot for other shooters; and a backpack to carry clothing\, shooting accessories\, water\, ammunition\, and food. \nPreregistration for the match is required on Practiscore*.  All registered competitors must also sign in at the match.  Early sign in is available from 4:00 – 5:00 PM Saturday.  Regular sign in is available from 6:45 – 7:15 AM on Sunday.  Competitors that fail to sign in by 7:15 AM Sunday are subject to forfeiture of their requested squadding and/or spot in the match. \nAt 7:45 AM the gate is locked and the mandatory shooter’s meeting starts.  The match begins at 8:00 AM and is usually finished by around 3:00 PM. \n\n\nREGISTER  \nContact\nDavid McInnis – 505-250-0965 – nmmi9100@gmail-com \nBefore You Arrive\nEvery guest must read and sigh the online Waiver before they are allowed into the center. \nREAD AND SIGN 
URL:https://krtnradio.com/wp/event/nra-coal-canyon-precision-rifle-match/
CATEGORIES:Area Events
END:VEVENT
END:VCALENDAR