BEGIN:VCALENDAR
VERSION:2.0
PRODID:-//KRTN Enchanted Air Radio - ECPv5.16.4.1//NONSGML v1.0//EN
CALSCALE:GREGORIAN
METHOD:PUBLISH
X-WR-CALNAME:KRTN Enchanted Air Radio
X-ORIGINAL-URL:https://krtnradio.com/wp
X-WR-CALDESC:Events for KRTN Enchanted Air Radio
BEGIN:VTIMEZONE
TZID:America/Denver
BEGIN:DAYLIGHT
TZOFFSETFROM:-0700
TZOFFSETTO:-0600
TZNAME:MDT
DTSTART:20260308T090000
END:DAYLIGHT
BEGIN:STANDARD
TZOFFSETFROM:-0600
TZOFFSETTO:-0700
TZNAME:MST
DTSTART:20261101T080000
END:STANDARD
END:VTIMEZONE
BEGIN:VEVENT
DTSTART;VALUE=DATE:20260411
DTEND;VALUE=DATE:20260412
DTSTAMP:20260423T124123
CREATED:20260408T200533Z
LAST-MODIFIED:20260408T200533Z
UID:100491-1775865600-1775951999@krtnradio.com
SUMMARY:NRA- Black Powder Silhouette Match
DESCRIPTION:BPCR Silhouette Match\n \nDate\nApr 11\, 2026 | Add to Calendar \nLocation\nHigh Power Rifle Silhouette Range \nDescription\n\n\n60 round black powder silhouette loosely following nra rules. \n15 rounds at 200 meter chickens\, off-hand \n15 rounds each at 300 meter pigs\, 385 m turkeys and 500m rams shot from any position. \nWe waive the black powder rule for anyone wanting to shoot single shot with smokeless or black substitutes. \nset targets around 7 am\, your help is appreciated. no target setters\, we do our own. \nmatch starts around 9 am. \nplease complete liability form at nrawc website or at gate. \n\n\nContact\nHugh Wilson – hueyw@comcast.net – 719-846-2458 \nBefore You Arrive\nEvery guest must read and sigh the online Waiver before they are allowed into the center. \nREAD AND SIGN 
URL:https://krtnradio.com/wp/event/nra-black-powder-silhouette-match/
CATEGORIES:Area Events
END:VEVENT
END:VCALENDAR