BEGIN:VCALENDAR
VERSION:2.0
PRODID:-//KRTN Enchanted Air Radio - ECPv5.16.4.1//NONSGML v1.0//EN
CALSCALE:GREGORIAN
METHOD:PUBLISH
X-WR-CALNAME:KRTN Enchanted Air Radio
X-ORIGINAL-URL:https://krtnradio.com/wp
X-WR-CALDESC:Events for KRTN Enchanted Air Radio
BEGIN:VTIMEZONE
TZID:America/Denver
BEGIN:DAYLIGHT
TZOFFSETFROM:-0700
TZOFFSETTO:-0600
TZNAME:MDT
DTSTART:20200308T090000
END:DAYLIGHT
BEGIN:STANDARD
TZOFFSETFROM:-0600
TZOFFSETTO:-0700
TZNAME:MST
DTSTART:20201101T080000
END:STANDARD
END:VTIMEZONE
BEGIN:VEVENT
DTSTART;TZID=America/Denver:20200318T183000
DTEND;TZID=America/Denver:20200318T183000
DTSTAMP:20260425T201247
CREATED:20200130T211036Z
LAST-MODIFIED:20200317T204816Z
UID:59445-1584556200-1584556200@krtnradio.com
SUMMARY:Cancelled: Nostalgic Movie Night- Barry Lyndon Part 2 ~ Carnegie Public Library
DESCRIPTION:6:30\, Nostalgic Movie Night- Barry Lyndon Part 2\, Carnegie Library\, 202 N. Animas\, (part 1 was on Feb. 19th. FREE\, including the popcorn
URL:https://krtnradio.com/wp/event/nostalgic-movie-night-barry-lyndon-part-2-carnegie-public-library/
LOCATION:Carnegie Public Library of Trinidad\, 202 N. Animas\, Trinidad\, CO\, 81082\, United States
CATEGORIES:Meetings
ATTACH;FMTTYPE=image/jpeg:https://krtnradio.com/wp/wp-content/uploads/2020/01/200px-Barry_Lyndon_A.jpg
END:VEVENT
END:VCALENDAR