BEGIN:VCALENDAR
VERSION:2.0
PRODID:-//KRTN Enchanted Air Radio - ECPv5.16.4.1//NONSGML v1.0//EN
CALSCALE:GREGORIAN
METHOD:PUBLISH
X-WR-CALNAME:KRTN Enchanted Air Radio
X-ORIGINAL-URL:https://krtnradio.com/wp
X-WR-CALDESC:Events for KRTN Enchanted Air Radio
BEGIN:VTIMEZONE
TZID:America/Denver
BEGIN:DAYLIGHT
TZOFFSETFROM:-0700
TZOFFSETTO:-0600
TZNAME:MDT
DTSTART:20260308T090000
END:DAYLIGHT
BEGIN:STANDARD
TZOFFSETFROM:-0600
TZOFFSETTO:-0700
TZNAME:MST
DTSTART:20261101T080000
END:STANDARD
END:VTIMEZONE
BEGIN:VEVENT
DTSTART;VALUE=DATE:20260623
DTEND;VALUE=DATE:20260624
DTSTAMP:20260423T174327
CREATED:20260408T191905Z
LAST-MODIFIED:20260408T191905Z
UID:100450-1782172800-1782259199@krtnradio.com
SUMMARY:NMSU Ranch Management Camp
DESCRIPTION:Day 1 of Ranch Management Camp is focused on beef\, cows\, and beefy cows. There’s a lot to know about beef production. Here\, we’ll cover animal care/welfare\, resource management\, animal organs\, animal reproduction\, and standardizing your steaks.For more information\, follow the link below. Don’t forget to apply before the end of April!!https://nmyrm.nmsu.edu/day1/beefday.html
URL:https://krtnradio.com/wp/event/nmsu-ranch-management-camp-3/
CATEGORIES:Area Events
ATTACH;FMTTYPE=image/jpeg:https://krtnradio.com/wp/wp-content/uploads/2026/04/Screenshot-2026-04-08-131422.jpg
END:VEVENT
END:VCALENDAR