BEGIN:VCALENDAR
VERSION:2.0
PRODID:-//KRTN Enchanted Air Radio - ECPv5.16.4.1//NONSGML v1.0//EN
CALSCALE:GREGORIAN
METHOD:PUBLISH
X-WR-CALNAME:KRTN Enchanted Air Radio
X-ORIGINAL-URL:https://krtnradio.com/wp
X-WR-CALDESC:Events for KRTN Enchanted Air Radio
BEGIN:VTIMEZONE
TZID:America/Denver
BEGIN:DAYLIGHT
TZOFFSETFROM:-0700
TZOFFSETTO:-0600
TZNAME:MDT
DTSTART:20240310T090000
END:DAYLIGHT
BEGIN:STANDARD
TZOFFSETFROM:-0600
TZOFFSETTO:-0700
TZNAME:MST
DTSTART:20241103T080000
END:STANDARD
END:VTIMEZONE
BEGIN:VEVENT
DTSTART;TZID=America/Denver:20240413T200000
DTEND;TZID=America/Denver:20240413T223000
DTSTAMP:20260423T231927
CREATED:20240327T214501Z
LAST-MODIFIED:20240327T214501Z
UID:89635-1713038400-1713047400@krtnradio.com
SUMMARY:Night Sky Viewing By: Capulin Volcano
DESCRIPTION:Event by Capulin Volcano National Monument\n\n\n\n\n\n\n\n\n\n\n\n\n46 Volcano Highway\, Capulin\, NM\, United States\, New Mexico 88414\n\n\n\n\n\n\n\n\n\n\n\n\nDuration: 2 hr 30 min\n\n\n\n\n\n  \n  \nJoin us for an exceptional Dark Sky experience. Telescopes are provided by us\, and the dark northeastern New Mexico skies by nature. You will see planets\, galaxies\, nebula\, and other amazing sights all with your own eyes. \nCapulin Volcano is at a higher altitude of over 6\,000 feet. Nights can get chilly even in summer. A jacket\, long pants\, and closed-toe shoes are recommended to attend a Dark Sky program. No reservations are needed. Dark Sky programs may be changed or canceled due to weather. \n 
URL:https://krtnradio.com/wp/event/night-sky-viewing-by-capulin-volcano/
CATEGORIES:Area Events
ATTACH;FMTTYPE=image/jpeg:https://krtnradio.com/wp/wp-content/uploads/2024/03/429580683_719552130345730_2554630147049250825_n.jpg
END:VEVENT
END:VCALENDAR