BEGIN:VCALENDAR
VERSION:2.0
PRODID:-//KRTN Enchanted Air Radio - ECPv5.16.4.1//NONSGML v1.0//EN
CALSCALE:GREGORIAN
METHOD:PUBLISH
X-WR-CALNAME:KRTN Enchanted Air Radio
X-ORIGINAL-URL:https://krtnradio.com/wp
X-WR-CALDESC:Events for KRTN Enchanted Air Radio
BEGIN:VTIMEZONE
TZID:America/Denver
BEGIN:DAYLIGHT
TZOFFSETFROM:-0700
TZOFFSETTO:-0600
TZNAME:MDT
DTSTART:20240310T090000
END:DAYLIGHT
BEGIN:STANDARD
TZOFFSETFROM:-0600
TZOFFSETTO:-0700
TZNAME:MST
DTSTART:20241103T080000
END:STANDARD
END:VTIMEZONE
BEGIN:VEVENT
DTSTART;TZID=America/Denver:20240504T200000
DTEND;TZID=America/Denver:20240504T220000
DTSTAMP:20260423T130944
CREATED:20240430T185616Z
LAST-MODIFIED:20240430T185616Z
UID:90352-1714852800-1714860000@krtnradio.com
SUMMARY:Night Sky Viewing at Capulin Volcano
DESCRIPTION:Event by Capulin Volcano National Monument\n\n\n\n\n\n\n\n\n\n\n\n\n46 Volcano Highway\, Capulin\, NM\, United States\, New Mexico 88414\n\n\n\n\n\n\n\n\n\n\n\n\nDuration: 2 hr 30 min\n\n\n\n\n\n  \n  \nJoin us for an exceptional Dark Sky experience. Telescopes are provided by us\, and the dark northeastern New Mexico skies by nature. You will see planets\, galaxies\, nebula\, and other amazing sights all with your own eyes. \nCapulin Volcano is at a higher altitude of over 6\,000 feet. Nights can get chilly even in summer. A jacket\, long pants\, and closed toe shoes are recommended to attend a Dark Sky program. No reservations are needed. Dark Sky programs may be changed or cancelled due to weather.
URL:https://krtnradio.com/wp/event/night-sky-viewing-at-capulin-volcano-2/
CATEGORIES:Area Events
END:VEVENT
END:VCALENDAR