BEGIN:VCALENDAR
VERSION:2.0
PRODID:-//KRTN Enchanted Air Radio - ECPv5.16.4.1//NONSGML v1.0//EN
CALSCALE:GREGORIAN
METHOD:PUBLISH
X-WR-CALNAME:KRTN Enchanted Air Radio
X-ORIGINAL-URL:https://krtnradio.com/wp
X-WR-CALDESC:Events for KRTN Enchanted Air Radio
BEGIN:VTIMEZONE
TZID:America/Denver
BEGIN:DAYLIGHT
TZOFFSETFROM:-0700
TZOFFSETTO:-0600
TZNAME:MDT
DTSTART:20160313T090000
END:DAYLIGHT
BEGIN:STANDARD
TZOFFSETFROM:-0600
TZOFFSETTO:-0700
TZNAME:MST
DTSTART:20161106T080000
END:STANDARD
END:VTIMEZONE
BEGIN:VEVENT
DTSTART;VALUE=DATE:20161231
DTEND;VALUE=DATE:20170101
DTSTAMP:20260424T131250
CREATED:20141118T191431Z
LAST-MODIFIED:20161223T200915Z
UID:11450-1483142400-1483228799@krtnradio.com
SUMMARY:CANCELLED:  New Year's Eve Pool Party!~ Aquatic Center
DESCRIPTION:DUE TO MAJOR MECHANICAL ISSUES\, THIS EVENT HAD TO BE CANCELLED:  New Year’s Eve Pool Party IS Saturday\, December 31st Hosted by the Raton Regional Aquatic Center in partnership with the Colfax County DWI Program. \n 
URL:https://krtnradio.com/wp/event/new-years-eve-pool-party-aquatic-center/
LOCATION:Raton Regional Aquatic Center\, Raton  \, NM\, United States
CATEGORIES:Area Events
ORGANIZER;CN="Raton%20Parks%20and%20Recreation":MAILTO:jchatterley@cityofraton.com
END:VEVENT
END:VCALENDAR