BEGIN:VCALENDAR
VERSION:2.0
PRODID:-//KRTN Enchanted Air Radio - ECPv5.16.4.1//NONSGML v1.0//EN
CALSCALE:GREGORIAN
METHOD:PUBLISH
X-WR-CALNAME:KRTN Enchanted Air Radio
X-ORIGINAL-URL:https://krtnradio.com/wp
X-WR-CALDESC:Events for KRTN Enchanted Air Radio
BEGIN:VTIMEZONE
TZID:America/Denver
BEGIN:DAYLIGHT
TZOFFSETFROM:-0700
TZOFFSETTO:-0600
TZNAME:MDT
DTSTART:20200308T090000
END:DAYLIGHT
BEGIN:STANDARD
TZOFFSETFROM:-0600
TZOFFSETTO:-0700
TZNAME:MST
DTSTART:20201101T080000
END:STANDARD
END:VTIMEZONE
BEGIN:VEVENT
DTSTART;VALUE=DATE:20201001
DTEND;VALUE=DATE:20201003
DTSTAMP:20260424T103956
CREATED:20200130T235129Z
LAST-MODIFIED:20200130T235129Z
UID:59466-1601510400-1601683199@krtnradio.com
SUMMARY:New Mexico Concealed Carry Class ~ NRA Whittington Center
DESCRIPTION:You can register online at http://nrawc.goemerchant-stores.com/New-Mexico-Concealed-Ca…. \nSpots are filling up fast! \nNew Mexico Concealed Carry\nYour Price: $175.00 \n  \nCourse Dates 2020 \nFebruary 8-9\, 2020 \nMay 2-3\, 2020 \nJune 27-28\, 2020 \nOctober\, 1-2\, 2020 \nThe purpose of the New Mexico Concealed Handgun Carry Act (NMCHCA) course\, is to educate the New Mexico Citizen of the legal aspects within New Mexico State Law\, involving the carrying of a concealed handgun. It also involves training in the consistent\, efficient\, and safe use of a handgun. This course focuses on Violence as a Means of Last Resort\, with the defense of ourselves and our loved ones as part of an overall lifestyle change. \nNMCHCA Course will cover: \nClassroom Instruction: \no Federal\, State\, local laws \no Introduction \no Defensive Posture \no Fundamentals of Defensive Marksmanship \no 3-Position Presentation Technique \nStatic Fire Drills \nQualification* \nWhat you will need: (a detailed list will be sent with Course Welcome letter) \n· Sidearm\, .32cal or larger (semi-automatic or revolver)\n· 2 magazines/speed loader minimum\n· 150 rounds ammunition (25rds extra for each handgun qualifying with) \nNo Handloaded Ammunition Accepted \n· Holster\n· Sturdy Belt\n· Eye/Ear Protection\n· Sunscreen/Bug spray\n· Water Bottle/Container \n  \nIf you have questions or comments regarding Whittington U\, please contact us at info@nrawc.org or call (800)494-4853.
URL:https://krtnradio.com/wp/event/new-mexico-concealed-carry-class-nra-whittington-center-4/
LOCATION:NRA Whittington Center\, South of Raton\, Raton\, 87740\, United States
CATEGORIES:Area Events
ATTACH;FMTTYPE=image/jpeg:https://krtnradio.com/wp/wp-content/uploads/2018/09/NRAWhittingtonCenter.jpg
END:VEVENT
END:VCALENDAR