BEGIN:VCALENDAR
VERSION:2.0
PRODID:-//KRTN Enchanted Air Radio - ECPv5.16.4.1//NONSGML v1.0//EN
CALSCALE:GREGORIAN
METHOD:PUBLISH
X-WR-CALNAME:KRTN Enchanted Air Radio
X-ORIGINAL-URL:https://krtnradio.com/wp
X-WR-CALDESC:Events for KRTN Enchanted Air Radio
BEGIN:VTIMEZONE
TZID:America/Denver
BEGIN:DAYLIGHT
TZOFFSETFROM:-0700
TZOFFSETTO:-0600
TZNAME:MDT
DTSTART:20200308T090000
END:DAYLIGHT
BEGIN:STANDARD
TZOFFSETFROM:-0600
TZOFFSETTO:-0700
TZNAME:MST
DTSTART:20201101T080000
END:STANDARD
END:VTIMEZONE
BEGIN:VEVENT
DTSTART;TZID=America/Denver:20200605T190000
DTEND;TZID=America/Denver:20200605T190000
DTSTAMP:20260425T125829
CREATED:20200603T171418Z
LAST-MODIFIED:20200603T171519Z
UID:63413-1591383600-1591383600@krtnradio.com
SUMMARY:Nearby Archeoastronomy Sites (Live-streamed Astronomy Talk) ~  Hosted by Pajarito Environmental Education Center
DESCRIPTION:Since the discovery of the “Sun Dagger” site on Fajada Butte in Chaco Canyon\, there has been considerable interest in finding other such sites that could observe special days of the year\, like summer and winter solstices and the spring and fall equinoxes. Some quite impressive archeoastronomy sites have indeed been found all around the Southwest. These sites were important to Ancestral Puebloans for both for practical and ceremonial reasons. \nGiven the plethora of ancient native ruins on the Pajarito Plateau\, one might expect to find such solar sites here. \nJoin Chick Keller to discuss two such sites of considerable sophistication near Los Alamos\, the second of which could be the most remarkable of all sites found to date. \nRegister now through PEEC’s website! You will receive an email with a link to join the broadcast approximately 1 hour before the event begins. We will be using the online platform called Zoom. You don’t need to create an account\, but you will need the free Zoom app. The Zoom invitation will provide simple instructions for downloading the app and joining the live-stream. \nAdmission: Free.\nFriday at 7 PM – 8 PM \nhttps://www.facebook.com/events/938881059902462/ \nFollow us on Facebook for more virtual event announcements: https://www.facebook.com/peecnature/
URL:https://krtnradio.com/wp/event/nearby-archeoastronomy-sites-live-streamed-astronomy-talk-hosted-by-pajarito-environmental-education-center/
CATEGORIES:Area Events
ATTACH;FMTTYPE=image/jpeg:https://krtnradio.com/wp/wp-content/uploads/2020/06/archeology-clip-art.jpg
END:VEVENT
END:VCALENDAR