BEGIN:VCALENDAR
VERSION:2.0
PRODID:-//KRTN Enchanted Air Radio - ECPv5.16.4.1//NONSGML v1.0//EN
CALSCALE:GREGORIAN
METHOD:PUBLISH
X-WR-CALNAME:KRTN Enchanted Air Radio
X-ORIGINAL-URL:https://krtnradio.com/wp
X-WR-CALDESC:Events for KRTN Enchanted Air Radio
BEGIN:VTIMEZONE
TZID:America/Denver
BEGIN:DAYLIGHT
TZOFFSETFROM:-0700
TZOFFSETTO:-0600
TZNAME:MDT
DTSTART:20240310T090000
END:DAYLIGHT
BEGIN:STANDARD
TZOFFSETFROM:-0600
TZOFFSETTO:-0700
TZNAME:MST
DTSTART:20241103T080000
END:STANDARD
END:VTIMEZONE
BEGIN:VEVENT
DTSTART;TZID=America/Denver:20240504T180000
DTEND;TZID=America/Denver:20240504T180000
DTSTAMP:20260423T030636
CREATED:20240430T215513Z
LAST-MODIFIED:20240430T215513Z
UID:90374-1714845600-1714845600@krtnradio.com
SUMMARY:Narcotics Anonymous Meetings
DESCRIPTION:Narcotics Anonymous Meetings\n\n\nMonday\, 6:00 PM\, Holy Trinity Episcopal Church\, 240 Rio Grande\, Raton\, NM\nThursday\, 7:00 PM\, Holy Trinity Episcopal Church\, 240 Rio Grnade\, Raton\, NM\nSaturday\, 6:00 PM\, First United Methodist Church\, 1501 S. 4th Street\, Raton\, NM\n\nAll NA meetings are hybrid\, in-person and on Zoom. ID: 289 801 6228\, Passcode 77801
URL:https://krtnradio.com/wp/event/narcotics-anonymous-meetings-17/
CATEGORIES:Meetings
ATTACH;FMTTYPE=image/png:https://krtnradio.com/wp/wp-content/uploads/2024/03/Narcotics-Anonymouse.png
END:VEVENT
END:VCALENDAR