BEGIN:VCALENDAR
VERSION:2.0
PRODID:-//KRTN Enchanted Air Radio - ECPv5.16.4.1//NONSGML v1.0//EN
CALSCALE:GREGORIAN
METHOD:PUBLISH
X-WR-CALNAME:KRTN Enchanted Air Radio
X-ORIGINAL-URL:https://krtnradio.com/wp
X-WR-CALDESC:Events for KRTN Enchanted Air Radio
BEGIN:VTIMEZONE
TZID:America/Denver
BEGIN:DAYLIGHT
TZOFFSETFROM:-0700
TZOFFSETTO:-0600
TZNAME:MDT
DTSTART:20200308T090000
END:DAYLIGHT
BEGIN:STANDARD
TZOFFSETFROM:-0600
TZOFFSETTO:-0700
TZNAME:MST
DTSTART:20201101T080000
END:STANDARD
END:VTIMEZONE
BEGIN:VEVENT
DTSTART;TZID=America/Denver:20200224T190000
DTEND;TZID=America/Denver:20200224T190000
DTSTAMP:20260425T062421
CREATED:20191231T200700Z
LAST-MODIFIED:20191231T200700Z
UID:57714-1582570800-1582570800@krtnradio.com
SUMMARY:NA Meetings ~ Raton
DESCRIPTION:Mondays from 7 pm to 8 pm\nHere’s what you can expect at your Narcotics Anonymous meeting:\n\nOpening discussion usually starts with a prayer and an introduction\nDuring introduction\, members will state their names and if comfortable\, may also state a little something about themselves such as their addiction or the number of days they have in sobriety\nTry to get to the meeting early so that you can meet with some of the members of the group early on. You might even find a sponsor during this time.\nMake the most out of the meeting by asking as many questions as you have and being open and honest\nIf you can spend additional time to talk and mingle with other members of the group after the meeting\, that will be good too\nIf you are an addict who is in recovery\, you can attend closed sessions but if you are not an addict and simply want to take some time to experience a meeting\, attending an open meeting is the best option\nFor the best results and the greatest support\, NA recommends that new members attend one meeting every day for the first 90 days—90 meetings in 90 days\nMost meetings will have a single speaker and moderator and will focus on one of the twelve-steps of recovery\, some include excerpts from the bible too\nAttending Narcotics Anonymous meetings regularly can help you to build bonds with other members of the group and you may progress through the twelve-steps with a better understanding of each\nThe end goal is to be in recovery and to become a sponsor who can help others who are in their early stages of the NA program
URL:https://krtnradio.com/wp/event/na-meetings-raton-18/
LOCATION:Mesa Church\, 140 North 1st Street\, Raton\, NM\, 87740
CATEGORIES:Meetings
ATTACH;FMTTYPE=image/jpeg:https://krtnradio.com/wp/wp-content/uploads/2019/10/Narcotics-Anonymous-Logo.jpg
END:VEVENT
END:VCALENDAR