BEGIN:VCALENDAR
VERSION:2.0
PRODID:-//KRTN Enchanted Air Radio - ECPv5.16.4.1//NONSGML v1.0//EN
CALSCALE:GREGORIAN
METHOD:PUBLISH
X-WR-CALNAME:KRTN Enchanted Air Radio
X-ORIGINAL-URL:https://krtnradio.com/wp
X-WR-CALDESC:Events for KRTN Enchanted Air Radio
BEGIN:VTIMEZONE
TZID:America/Denver
BEGIN:DAYLIGHT
TZOFFSETFROM:-0700
TZOFFSETTO:-0600
TZNAME:MDT
DTSTART:20230312T090000
END:DAYLIGHT
BEGIN:STANDARD
TZOFFSETFROM:-0600
TZOFFSETTO:-0700
TZNAME:MST
DTSTART:20231105T080000
END:STANDARD
END:VTIMEZONE
BEGIN:VEVENT
DTSTART;TZID=America/Denver:20231028T180000
DTEND;TZID=America/Denver:20231028T190000
DTSTAMP:20260425T154122
CREATED:20231004T193044Z
LAST-MODIFIED:20231004T193044Z
UID:86528-1698516000-1698519600@krtnradio.com
SUMMARY:Mt. Carmel Youth Orchestra presents…  SPOOKY SYMPHONY 2023
DESCRIPTION:
URL:https://krtnradio.com/wp/event/mt-carmel-youth-orchestra-presents-spooky-symphony-2023/
CATEGORIES:Area Events
END:VEVENT
END:VCALENDAR