BEGIN:VCALENDAR
VERSION:2.0
PRODID:-//KRTN Enchanted Air Radio - ECPv5.16.4.1//NONSGML v1.0//EN
CALSCALE:GREGORIAN
METHOD:PUBLISH
X-WR-CALNAME:KRTN Enchanted Air Radio
X-ORIGINAL-URL:https://krtnradio.com/wp
X-WR-CALDESC:Events for KRTN Enchanted Air Radio
BEGIN:VTIMEZONE
TZID:America/Denver
BEGIN:DAYLIGHT
TZOFFSETFROM:-0700
TZOFFSETTO:-0600
TZNAME:MDT
DTSTART:20200308T090000
END:DAYLIGHT
BEGIN:STANDARD
TZOFFSETFROM:-0600
TZOFFSETTO:-0700
TZNAME:MST
DTSTART:20201101T080000
END:STANDARD
END:VTIMEZONE
BEGIN:VEVENT
DTSTART;TZID=America/Denver:20201004T130000
DTEND;TZID=America/Denver:20201004T130000
DTSTAMP:20260424T083954
CREATED:20200910T051612Z
LAST-MODIFIED:20200910T051612Z
UID:66846-1601816400-1601816400@krtnradio.com
SUMMARY:Mt. Carmel Youth Orchestra
DESCRIPTION:Free Group Lessons\n■ Music Provided\n■ Affordable Instrument Rental\n■ First Concert in December\nKids ages 10 and up register at the following link:\nhttps://us02web.zoom.us/meeting/register/tZYtduGvqDMtG93xOVwr23OVmTsUw82GNoTv
URL:https://krtnradio.com/wp/event/mt-carmel-youth-orchestra-4/
CATEGORIES:Meetings
ATTACH;FMTTYPE=image/jpeg:https://krtnradio.com/wp/wp-content/uploads/2020/09/Mt-Carmel-Youth-Orchestra.jpg
END:VEVENT
END:VCALENDAR