BEGIN:VCALENDAR
VERSION:2.0
PRODID:-//KRTN Enchanted Air Radio - ECPv5.16.4.1//NONSGML v1.0//EN
CALSCALE:GREGORIAN
METHOD:PUBLISH
X-WR-CALNAME:KRTN Enchanted Air Radio
X-ORIGINAL-URL:https://krtnradio.com/wp
X-WR-CALDESC:Events for KRTN Enchanted Air Radio
BEGIN:VTIMEZONE
TZID:America/Denver
BEGIN:DAYLIGHT
TZOFFSETFROM:-0700
TZOFFSETTO:-0600
TZNAME:MDT
DTSTART:20260308T090000
END:DAYLIGHT
BEGIN:STANDARD
TZOFFSETFROM:-0600
TZOFFSETTO:-0700
TZNAME:MST
DTSTART:20261101T080000
END:STANDARD
END:VTIMEZONE
BEGIN:VEVENT
DTSTART;TZID=America/Denver:20260424T100000
DTEND;TZID=America/Denver:20260424T120000
DTSTAMP:20260422T221739
CREATED:20260408T195027Z
LAST-MODIFIED:20260408T195027Z
UID:100480-1777024800-1777032000@krtnradio.com
SUMMARY:Mt. Carmel Wellness and Community Center- Youth STEM with Kathy Bell
DESCRIPTION:Youth STEM with Kathy Bell\nApril 24\, 2026 | 10:00 am – 12:00 pm \nGarden Room | Mt. Carmel Wellness & Community Center\n911 Robinson Ave.\, Trinidad\, CO 81082 \nRegistration required. Call 719-845-4838 to register or ask questions.
URL:https://krtnradio.com/wp/event/mt-carmel-wellness-and-community-center-youth-stem-with-kathy-bell/
CATEGORIES:Area Events
ATTACH;FMTTYPE=image/jpeg:https://krtnradio.com/wp/wp-content/uploads/2026/04/Screenshot-2026-04-08-134910.jpg
END:VEVENT
END:VCALENDAR