BEGIN:VCALENDAR
VERSION:2.0
PRODID:-//KRTN Enchanted Air Radio - ECPv5.16.4.1//NONSGML v1.0//EN
CALSCALE:GREGORIAN
METHOD:PUBLISH
X-WR-CALNAME:KRTN Enchanted Air Radio
X-ORIGINAL-URL:https://krtnradio.com/wp
X-WR-CALDESC:Events for KRTN Enchanted Air Radio
BEGIN:VTIMEZONE
TZID:America/Denver
BEGIN:DAYLIGHT
TZOFFSETFROM:-0700
TZOFFSETTO:-0600
TZNAME:MDT
DTSTART:20260308T090000
END:DAYLIGHT
BEGIN:STANDARD
TZOFFSETFROM:-0600
TZOFFSETTO:-0700
TZNAME:MST
DTSTART:20261101T080000
END:STANDARD
END:VTIMEZONE
BEGIN:VEVENT
DTSTART;TZID=America/Denver:20260418T090000
DTEND;TZID=America/Denver:20260418T140000
DTSTAMP:20260423T024350
CREATED:20260408T193618Z
LAST-MODIFIED:20260408T193618Z
UID:100465-1776502800-1776520800@krtnradio.com
SUMMARY:Mt. Carmel Wellness and Community Center- Spring Market 2026
DESCRIPTION:Spring Market 2026\nSaturday | April 18th | 9:00 am – 2:00 pm \nMt. Carmel Wellness & Community Center\n911 Robinson Ave.\, Trinidad\, CO 81082 \nLots of Crafts • Unique Items • Food Served from Our Café \nCall Noreen Perri at 719-845-4875 for vendor information.
URL:https://krtnradio.com/wp/event/mt-carmel-wellness-and-community-center-spring-market-2026/
CATEGORIES:Area Events
END:VEVENT
END:VCALENDAR