BEGIN:VCALENDAR
VERSION:2.0
PRODID:-//KRTN Enchanted Air Radio - ECPv5.16.4.1//NONSGML v1.0//EN
CALSCALE:GREGORIAN
METHOD:PUBLISH
X-WR-CALNAME:KRTN Enchanted Air Radio
X-ORIGINAL-URL:https://krtnradio.com/wp
X-WR-CALDESC:Events for KRTN Enchanted Air Radio
BEGIN:VTIMEZONE
TZID:America/Denver
BEGIN:DAYLIGHT
TZOFFSETFROM:-0700
TZOFFSETTO:-0600
TZNAME:MDT
DTSTART:20260308T090000
END:DAYLIGHT
BEGIN:STANDARD
TZOFFSETFROM:-0600
TZOFFSETTO:-0700
TZNAME:MST
DTSTART:20261101T080000
END:STANDARD
END:VTIMEZONE
BEGIN:VEVENT
DTSTART;TZID=America/Denver:20260424T140000
DTEND;TZID=America/Denver:20260424T150000
DTSTAMP:20260422T221739
CREATED:20260403T213616Z
LAST-MODIFIED:20260403T213616Z
UID:100342-1777039200-1777042800@krtnradio.com
SUMMARY:Mt. Carmel Wellness and Community Center- Mat Pilates Class with Sabra Lopez
DESCRIPTION:Mat Pilates Class with Sabra Lopez\nMondays 5:15-6:15 pm & Fridays 2:00-3:00 pm \nCLASS IS LIMITED TO 17 PARTICIPANTS \nIN-PERSON ONLY | Ziccardi Hall | Mt. Carmel Wellness & Community Center \n911 Robinson Ave. Trinidad\, CO 81082 \nREGISTRATION REQUIRED ! Register for one or both days below: \nMonday registration link | Friday registration link \nBRING YOUR OWN MAT \nContact Sam at smcdonald@mc-wcc.org or 719-845-4873 to ask questions.
URL:https://krtnradio.com/wp/event/mt-carmel-wellness-and-community-center-mat-pilates-class-with-sabra-lopez-6/
CATEGORIES:Area Events
ATTACH;FMTTYPE=image/jpeg:https://krtnradio.com/wp/wp-content/uploads/2026/04/Screenshot-2026-04-03-152545.jpg
END:VEVENT
END:VCALENDAR