BEGIN:VCALENDAR
VERSION:2.0
PRODID:-//KRTN Enchanted Air Radio - ECPv5.16.4.1//NONSGML v1.0//EN
CALSCALE:GREGORIAN
METHOD:PUBLISH
X-WR-CALNAME:KRTN Enchanted Air Radio
X-ORIGINAL-URL:https://krtnradio.com/wp
X-WR-CALDESC:Events for KRTN Enchanted Air Radio
BEGIN:VTIMEZONE
TZID:America/Denver
BEGIN:DAYLIGHT
TZOFFSETFROM:-0700
TZOFFSETTO:-0600
TZNAME:MDT
DTSTART:20260308T090000
END:DAYLIGHT
BEGIN:STANDARD
TZOFFSETFROM:-0600
TZOFFSETTO:-0700
TZNAME:MST
DTSTART:20261101T080000
END:STANDARD
END:VTIMEZONE
BEGIN:VEVENT
DTSTART;TZID=America/Denver:20260430T130000
DTEND;TZID=America/Denver:20260430T170000
DTSTAMP:20260423T074522
CREATED:20260408T195216Z
LAST-MODIFIED:20260408T195216Z
UID:100483-1777554000-1777568400@krtnradio.com
SUMMARY:Mt. Carmel Wellness and Community Center- Loom Weaving for Beginners
DESCRIPTION:Loom Weaving for Beginners\nwith Sandy Fox \nThursday | April 30th | 1-5 pm \nGarden Room | Mt. Carmel Wellness & Community Center\n911 Robinson Ave.\, Trinidad\, CO 81082 \nCLICK HERE TO REGISTER \nContact Sam at smcdonald@mc-wcc.org or 719-845-4873 for more information.
URL:https://krtnradio.com/wp/event/mt-carmel-wellness-and-community-center-loom-weaving-for-beginners/
CATEGORIES:Area Events
ATTACH;FMTTYPE=image/jpeg:https://krtnradio.com/wp/wp-content/uploads/2026/04/Screenshot-2026-04-08-135058.jpg
END:VEVENT
END:VCALENDAR