BEGIN:VCALENDAR
VERSION:2.0
PRODID:-//KRTN Enchanted Air Radio - ECPv5.16.4.1//NONSGML v1.0//EN
CALSCALE:GREGORIAN
METHOD:PUBLISH
X-WR-CALNAME:KRTN Enchanted Air Radio
X-ORIGINAL-URL:https://krtnradio.com/wp
X-WR-CALDESC:Events for KRTN Enchanted Air Radio
BEGIN:VTIMEZONE
TZID:America/Denver
BEGIN:DAYLIGHT
TZOFFSETFROM:-0700
TZOFFSETTO:-0600
TZNAME:MDT
DTSTART:20260308T090000
END:DAYLIGHT
BEGIN:STANDARD
TZOFFSETFROM:-0600
TZOFFSETTO:-0700
TZNAME:MST
DTSTART:20261101T080000
END:STANDARD
END:VTIMEZONE
BEGIN:VEVENT
DTSTART;TZID=America/Denver:20260414T140000
DTEND;TZID=America/Denver:20260414T160000
DTSTAMP:20260423T024546
CREATED:20260403T220457Z
LAST-MODIFIED:20260403T220457Z
UID:100362-1776175200-1776182400@krtnradio.com
SUMMARY:Mt. Carmel Wellness and Community Center-Free Diabetes Screening
DESCRIPTION:Free Diabetes Screening\nMt. Carmel Wellness & Community Center (Admin Building)\n911 Robinson Ave.\, Trinidad\, CO 81082 \nTuesdays 2-4 pm | Fridays 9-11 am \nCall 719-845-4838 to schedule an appointment.
URL:https://krtnradio.com/wp/event/mt-carmel-wellness-and-community-center-free-diabetes-screening-3/
CATEGORIES:Area Events
ATTACH;FMTTYPE=image/jpeg:https://krtnradio.com/wp/wp-content/uploads/2026/04/Screenshot-2026-04-03-155815.jpg
END:VEVENT
END:VCALENDAR