BEGIN:VCALENDAR
VERSION:2.0
PRODID:-//KRTN Enchanted Air Radio - ECPv5.16.4.1//NONSGML v1.0//EN
CALSCALE:GREGORIAN
METHOD:PUBLISH
X-WR-CALNAME:KRTN Enchanted Air Radio
X-ORIGINAL-URL:https://krtnradio.com/wp
X-WR-CALDESC:Events for KRTN Enchanted Air Radio
BEGIN:VTIMEZONE
TZID:America/Denver
BEGIN:DAYLIGHT
TZOFFSETFROM:-0700
TZOFFSETTO:-0600
TZNAME:MDT
DTSTART:20230312T090000
END:DAYLIGHT
BEGIN:STANDARD
TZOFFSETFROM:-0600
TZOFFSETTO:-0700
TZNAME:MST
DTSTART:20231105T080000
END:STANDARD
END:VTIMEZONE
BEGIN:VEVENT
DTSTART;TZID=America/Denver:20230624T190000
DTEND;TZID=America/Denver:20230624T230000
DTSTAMP:20260425T201204
CREATED:20230609T173735Z
LAST-MODIFIED:20230609T173735Z
UID:84861-1687633200-1687647600@krtnradio.com
SUMMARY:Mt. Carmel Summer Concert Series - Jeff & Sam Montoya
DESCRIPTION:
URL:https://krtnradio.com/wp/event/mt-carmel-summer-concert-series-jeff-sam-montoya/
CATEGORIES:Area Events
END:VEVENT
END:VCALENDAR