BEGIN:VCALENDAR
VERSION:2.0
PRODID:-//KRTN Enchanted Air Radio - ECPv5.16.4.1//NONSGML v1.0//EN
CALSCALE:GREGORIAN
METHOD:PUBLISH
X-WR-CALNAME:KRTN Enchanted Air Radio
X-ORIGINAL-URL:https://krtnradio.com/wp
X-WR-CALDESC:Events for KRTN Enchanted Air Radio
BEGIN:VTIMEZONE
TZID:America/Denver
BEGIN:DAYLIGHT
TZOFFSETFROM:-0700
TZOFFSETTO:-0600
TZNAME:MDT
DTSTART:20240310T090000
END:DAYLIGHT
BEGIN:STANDARD
TZOFFSETFROM:-0600
TZOFFSETTO:-0700
TZNAME:MST
DTSTART:20241103T080000
END:STANDARD
END:VTIMEZONE
BEGIN:VEVENT
DTSTART;TZID=America/Denver:20240520T140000
DTEND;TZID=America/Denver:20240520T160000
DTSTAMP:20260423T030635
CREATED:20240404T202808Z
LAST-MODIFIED:20240404T202808Z
UID:89891-1716213600-1716220800@krtnradio.com
SUMMARY:Mt. Carmel: SENIOR TECHNOLOGY COURSE
DESCRIPTION:
URL:https://krtnradio.com/wp/event/mt-carmel-senior-technology-course-8/
CATEGORIES:Meetings
END:VEVENT
END:VCALENDAR