BEGIN:VCALENDAR
VERSION:2.0
PRODID:-//KRTN Enchanted Air Radio - ECPv5.16.4.1//NONSGML v1.0//EN
CALSCALE:GREGORIAN
METHOD:PUBLISH
X-WR-CALNAME:KRTN Enchanted Air Radio
X-ORIGINAL-URL:https://krtnradio.com/wp
X-WR-CALDESC:Events for KRTN Enchanted Air Radio
BEGIN:VTIMEZONE
TZID:America/Denver
BEGIN:DAYLIGHT
TZOFFSETFROM:-0700
TZOFFSETTO:-0600
TZNAME:MDT
DTSTART:20230312T090000
END:DAYLIGHT
BEGIN:STANDARD
TZOFFSETFROM:-0600
TZOFFSETTO:-0700
TZNAME:MST
DTSTART:20231105T080000
END:STANDARD
END:VTIMEZONE
BEGIN:VEVENT
DTSTART;TZID=America/Denver:20230123T080000
DTEND;TZID=America/Denver:20230123T080000
DTSTAMP:20260425T093117
CREATED:20230111T195937Z
LAST-MODIFIED:20230111T195937Z
UID:81655-1674460800-1674460800@krtnradio.com
SUMMARY:Mt. Carmel Mindfulness Mornings
DESCRIPTION:Join Dr. Ivory Raye for Breathwork & Yoga. Classes will head be on Monday\, Wednesday\, and Friday at 8 am MST. The class is an hour\, featuring stretching\, breath work\, and a yoga flow. \n\n\n\n\n\n\nREGISTER
URL:https://krtnradio.com/wp/event/mt-carmel-mindfulness-mornings-5/
CATEGORIES:Area Events
ATTACH;FMTTYPE=image/png:https://krtnradio.com/wp/wp-content/uploads/2021/02/mindfulnessmornings.png
END:VEVENT
END:VCALENDAR