BEGIN:VCALENDAR
VERSION:2.0
PRODID:-//KRTN Enchanted Air Radio - ECPv5.16.4.1//NONSGML v1.0//EN
CALSCALE:GREGORIAN
METHOD:PUBLISH
X-WR-CALNAME:KRTN Enchanted Air Radio
X-ORIGINAL-URL:https://krtnradio.com/wp
X-WR-CALDESC:Events for KRTN Enchanted Air Radio
BEGIN:VTIMEZONE
TZID:America/Denver
BEGIN:DAYLIGHT
TZOFFSETFROM:-0700
TZOFFSETTO:-0600
TZNAME:MDT
DTSTART:20240310T090000
END:DAYLIGHT
BEGIN:STANDARD
TZOFFSETFROM:-0600
TZOFFSETTO:-0700
TZNAME:MST
DTSTART:20241103T080000
END:STANDARD
END:VTIMEZONE
BEGIN:VEVENT
DTSTART;TZID=America/Denver:20240504T130000
DTEND;TZID=America/Denver:20240504T150000
DTSTAMP:20260423T030856
CREATED:20240404T203336Z
LAST-MODIFIED:20240404T203336Z
UID:89893-1714827600-1714834800@krtnradio.com
SUMMARY:Mt Carmel: KIDS MOTHERS DAY CRAFT PROJECT
DESCRIPTION:
URL:https://krtnradio.com/wp/event/mt-carmel-kids-mothers-day-craft-project/
CATEGORIES:Meetings
END:VEVENT
END:VCALENDAR