BEGIN:VCALENDAR
VERSION:2.0
PRODID:-//KRTN Enchanted Air Radio - ECPv5.16.4.1//NONSGML v1.0//EN
CALSCALE:GREGORIAN
METHOD:PUBLISH
X-WR-CALNAME:KRTN Enchanted Air Radio
X-ORIGINAL-URL:https://krtnradio.com/wp
X-WR-CALDESC:Events for KRTN Enchanted Air Radio
BEGIN:VTIMEZONE
TZID:America/Denver
BEGIN:DAYLIGHT
TZOFFSETFROM:-0700
TZOFFSETTO:-0600
TZNAME:MDT
DTSTART:20240310T090000
END:DAYLIGHT
BEGIN:STANDARD
TZOFFSETFROM:-0600
TZOFFSETTO:-0700
TZNAME:MST
DTSTART:20241103T080000
END:STANDARD
END:VTIMEZONE
BEGIN:VEVENT
DTSTART;TZID=America/Denver:20241010T090000
DTEND;TZID=America/Denver:20241010T103000
DTSTAMP:20260423T081049
CREATED:20240829T191443Z
LAST-MODIFIED:20240829T191443Z
UID:91774-1728550800-1728556200@krtnradio.com
SUMMARY:Mt. Carmel Chair Yoga with: Cora Gardiner
DESCRIPTION:Chair Yoga with Cora Gardiner\nThursdays | September 19 – November 14Champions Center | 127 N. Commercial St.\, Trinidad\, CO\nChair yoga is especially great for people who spend a lot of time sitting (driving\, desk job\, etc)• Accessible for folks with limited mobility• Beneficial for all activity and ability levels\nRegistration required at the following link:https://us02web.zoom.us/…/tZwkceGqrD8iEtHUUEp3y0z77OuSQ…\nCall 719-845-4838 for more information
URL:https://krtnradio.com/wp/event/mt-carmel-chair-yoga-with-cora-gardiner-4/
CATEGORIES:Area Events
ATTACH;FMTTYPE=image/jpeg:https://krtnradio.com/wp/wp-content/uploads/2024/08/457223530_930951382406673_4088056685346453096_n.jpg
END:VEVENT
END:VCALENDAR