BEGIN:VCALENDAR
VERSION:2.0
PRODID:-//KRTN Enchanted Air Radio - ECPv5.16.4.1//NONSGML v1.0//EN
CALSCALE:GREGORIAN
METHOD:PUBLISH
X-WR-CALNAME:KRTN Enchanted Air Radio
X-ORIGINAL-URL:https://krtnradio.com/wp
X-WR-CALDESC:Events for KRTN Enchanted Air Radio
BEGIN:VTIMEZONE
TZID:America/Denver
BEGIN:DAYLIGHT
TZOFFSETFROM:-0700
TZOFFSETTO:-0600
TZNAME:MDT
DTSTART:20200308T090000
END:DAYLIGHT
BEGIN:STANDARD
TZOFFSETFROM:-0600
TZOFFSETTO:-0700
TZNAME:MST
DTSTART:20201101T080000
END:STANDARD
END:VTIMEZONE
BEGIN:VEVENT
DTSTART;TZID=America/Denver:20200704T200000
DTEND;TZID=America/Denver:20200704T200000
DTSTAMP:20260425T094234
CREATED:20200520T201425Z
LAST-MODIFIED:20200520T201425Z
UID:63110-1593892800-1593892800@krtnradio.com
SUMMARY:Moonlight Hike ~ Capulin Volcano National Monument
DESCRIPTION:Take a ranger-guided hike at Capulin Volcano under the full moon! \nSubjects include night time biology\, lunar geography\, astronomy\, and the park after dark. \nCome and experience Capulin Volcano in a new light! \nReservations required. Call 575-278-2201 for information and reservations.
URL:https://krtnradio.com/wp/event/moonlight-hike-capulin-volcano-national-monument-2/
LOCATION:Capulin Volcano National Monument\, 46 Volcano Rd.\,  Capulin \, NM\, 88414 \, United States
CATEGORIES:Area Events
ATTACH;FMTTYPE=image/jpeg:https://krtnradio.com/wp/wp-content/uploads/2018/09/CapulinStarPartyLogo.jpg
END:VEVENT
END:VCALENDAR