BEGIN:VCALENDAR
VERSION:2.0
PRODID:-//KRTN Enchanted Air Radio - ECPv5.16.4.1//NONSGML v1.0//EN
CALSCALE:GREGORIAN
METHOD:PUBLISH
X-WR-CALNAME:KRTN Enchanted Air Radio
X-ORIGINAL-URL:https://krtnradio.com/wp
X-WR-CALDESC:Events for KRTN Enchanted Air Radio
BEGIN:VTIMEZONE
TZID:America/Denver
BEGIN:DAYLIGHT
TZOFFSETFROM:-0700
TZOFFSETTO:-0600
TZNAME:MDT
DTSTART:20200308T090000
END:DAYLIGHT
BEGIN:STANDARD
TZOFFSETFROM:-0600
TZOFFSETTO:-0700
TZNAME:MST
DTSTART:20201101T080000
END:STANDARD
END:VTIMEZONE
BEGIN:VEVENT
DTSTART;TZID=America/Denver:20200619T080000
DTEND;TZID=America/Denver:20200619T080000
DTSTAMP:20260425T111941
CREATED:20200518T213246Z
LAST-MODIFIED:20200518T213246Z
UID:63014-1592553600-1592553600@krtnradio.com
SUMMARY:Mindfulness Mornings ~ Mt. Carmel Wellness & Community Center
DESCRIPTION:Mindful Mornings\nWednesday and Friday Mornings at 8 am\nBreathwork | Gentle Stretching | Yoga \nZoom Log-In or Call-In Instructions for All Classes: \nJoin Zoom Meeting by computer:\n(click on or copy the link below to your browser. Once you do this you will be asked to install Zoom\, continue to follow the instructions on your screen) \nhttps://us04web.zoom.us/j/538684549 \nMeeting ID: 538 684 549 \nJoin Zoom Meeting by phone:\nOne tap mobile\n+17207072699538-684549# US (Denver) \nDial by your location\n+1 720 707 2699 US (Denver)\nMeeting ID: 538 684 549
URL:https://krtnradio.com/wp/event/mindfulness-mornings-mt-carmel-wellness-community-center-14/
CATEGORIES:Area Events
ATTACH;FMTTYPE=image/jpeg:https://krtnradio.com/wp/wp-content/uploads/2020/04/Mindful-Mornings.jpg
END:VEVENT
END:VCALENDAR