BEGIN:VCALENDAR
VERSION:2.0
PRODID:-//KRTN Enchanted Air Radio - ECPv5.16.4.1//NONSGML v1.0//EN
CALSCALE:GREGORIAN
METHOD:PUBLISH
X-WR-CALNAME:KRTN Enchanted Air Radio
X-ORIGINAL-URL:https://krtnradio.com/wp
X-WR-CALDESC:Events for KRTN Enchanted Air Radio
BEGIN:VTIMEZONE
TZID:America/Denver
BEGIN:DAYLIGHT
TZOFFSETFROM:-0700
TZOFFSETTO:-0600
TZNAME:MDT
DTSTART:20250309T090000
END:DAYLIGHT
BEGIN:STANDARD
TZOFFSETFROM:-0600
TZOFFSETTO:-0700
TZNAME:MST
DTSTART:20251102T080000
END:STANDARD
END:VTIMEZONE
BEGIN:VEVENT
DTSTART;TZID=America/Denver:20250329T120000
DTEND;TZID=America/Denver:20250329T120000
DTSTAMP:20260424T084000
CREATED:20250319T170830Z
LAST-MODIFIED:20250319T170830Z
UID:94783-1743249600-1743249600@krtnradio.com
SUMMARY:Mesa Church Women's Luncheon
DESCRIPTION:Ladies\, join us for a beautiful afternoon of food\, fun\, and fellowship at our Women’s Luncheon! \n Enjoy a delicious meal with wonderful company Have a blast with games and door prizes Be inspired by powerful testimonies Special Guest Speaker: Tomeka Dawson from Now Glory Ministries in Clovis\, NM\nRSVP to Pastor Patty @ 505-652-0796 to reserve your spot.
URL:https://krtnradio.com/wp/event/mesa-church-womens-luncheon/
CATEGORIES:Area Events
END:VEVENT
END:VCALENDAR