BEGIN:VCALENDAR
VERSION:2.0
PRODID:-//KRTN Enchanted Air Radio - ECPv5.16.4.1//NONSGML v1.0//EN
CALSCALE:GREGORIAN
METHOD:PUBLISH
X-WR-CALNAME:KRTN Enchanted Air Radio
X-ORIGINAL-URL:https://krtnradio.com/wp
X-WR-CALDESC:Events for KRTN Enchanted Air Radio
BEGIN:VTIMEZONE
TZID:America/Denver
BEGIN:DAYLIGHT
TZOFFSETFROM:-0700
TZOFFSETTO:-0600
TZNAME:MDT
DTSTART:20260308T090000
END:DAYLIGHT
BEGIN:STANDARD
TZOFFSETFROM:-0600
TZOFFSETTO:-0700
TZNAME:MST
DTSTART:20261101T080000
END:STANDARD
END:VTIMEZONE
BEGIN:VEVENT
DTSTART;TZID=America/Denver:20260425T110000
DTEND;TZID=America/Denver:20260425T140000
DTSTAMP:20260422T221216
CREATED:20260403T173702Z
LAST-MODIFIED:20260403T173702Z
UID:100185-1777114800-1777125600@krtnradio.com
SUMMARY:Mesa Church Women’s Luncheon
DESCRIPTION:Calling all women \nJoin us April 25th at 11 AM for a Women’s Luncheon featuring a word from Miriam Torrez\, testimonies\, and time to connect.\nTheme: Spring Light  Wear your prettiest pastel dress!\nRSVP to (575) 303-3289 \nWe can’t wait to see you there!  #CometotheTable
URL:https://krtnradio.com/wp/event/mesa-church-womens-luncheon-2/
CATEGORIES:Area Events
END:VEVENT
END:VCALENDAR