BEGIN:VCALENDAR
VERSION:2.0
PRODID:-//KRTN Enchanted Air Radio - ECPv5.16.4.1//NONSGML v1.0//EN
CALSCALE:GREGORIAN
METHOD:PUBLISH
X-WR-CALNAME:KRTN Enchanted Air Radio
X-ORIGINAL-URL:https://krtnradio.com/wp
X-WR-CALDESC:Events for KRTN Enchanted Air Radio
BEGIN:VTIMEZONE
TZID:America/Denver
BEGIN:DAYLIGHT
TZOFFSETFROM:-0700
TZOFFSETTO:-0600
TZNAME:MDT
DTSTART:20230312T090000
END:DAYLIGHT
BEGIN:STANDARD
TZOFFSETFROM:-0600
TZOFFSETTO:-0700
TZNAME:MST
DTSTART:20231105T080000
END:STANDARD
END:VTIMEZONE
BEGIN:VEVENT
DTSTART;TZID=America/Denver:20230927T053000
DTEND;TZID=America/Denver:20230927T183000
DTSTAMP:20260425T184147
CREATED:20230907T191710Z
LAST-MODIFIED:20230907T191710Z
UID:85981-1695792600-1695839400@krtnradio.com
SUMMARY:Mental Health Night Supporting Your Childs Mental Health
DESCRIPTION:
URL:https://krtnradio.com/wp/event/mental-health-night-supporting-your-childs-mental-health/
CATEGORIES:Area Events
END:VEVENT
END:VCALENDAR